BEGIN:VCALENDAR
PRODID:NingEventWidget-v1
VERSION:2.0
METHOD:PUBLISH
BEGIN:VTIMEZONE
TZID:Pacific/Midway
X-LIC-LOCATION:Pacific/Midway
BEGIN:STANDARD
TZOFFSETFROM:-1100
TZOFFSETTO:-1100
TZNAME:SST
DTSTART:19700101T000000
END:STANDARD
END:VTIMEZONE
BEGIN:VEVENT
UID:5072275:Event:727543
DTSTAMP:20260421T000958Z
SUMMARY:Classic Car,Truck, Motorcycle Show & Auction -Alpharetta, GA
DESCRIPTION:We are having our Two Day Classic Car, Truck, Motorcycle, 
 & Collectible Auction August 16th & 17th. We are looking for Classics,
  customs, muscle cars, hot rods, antique cars, trucks, motorcycles, & 
 unique vehicles.\nCommission as low as 0%. Take advantage of our local
 , national, international advertising plus our live internet bidding w
 orldwide.\nConsign yours today. Call Steve 404-876-1048 or email steve
 @fsagallery.com\n\nFor more information visit https://www.southeastwhe
 elsevents.com/events/classic-car-truck-motorcycle-auction-3
DTSTART;TZID=Pacific/Midway:20140816T000000
DTEND;TZID=Pacific/Midway:20140817T235900
CATEGORIES:classic, car, truck, motorcycle, auction
LOCATION:Four Seasons Auction Gallery
WEBSITE:http://www.fsagallery.com
URL:http://www.fsagallery.com
CONTACT:404-876-1048
ORGANIZER;CN="Steve White":https://www.southeastwheelsevents.com/profi
 le/SteveWhite
ATTACH;FMTTYPE="image/jpeg":http://storage.ning.com/topology/rest/1.0/
 file/get/967652129?profile=original
ATTENDEE;ROLE=REQ-PARTICIPANT;PARTSTAT=ACCEPTED;RSVP=TRUE;CN="Barry Ha
 wkins":https://www.southeastwheelsevents.com/profile/BarryHawkins
ATTENDEE;ROLE=REQ-PARTICIPANT;PARTSTAT=ACCEPTED;RSVP=TRUE;CN="Bob Hunt
 ":https://www.southeastwheelsevents.com/profile/BobHunt
ATTENDEE;ROLE=REQ-PARTICIPANT;PARTSTAT=ACCEPTED;RSVP=TRUE;CN="Steve Wh
 ite":https://www.southeastwheelsevents.com/profile/SteveWhite
END:VEVENT
END:VCALENDAR
