BEGIN:VCALENDAR
PRODID:NingEventWidget-v1
VERSION:2.0
METHOD:PUBLISH
BEGIN:VTIMEZONE
TZID:Pacific/Midway
X-LIC-LOCATION:Pacific/Midway
BEGIN:STANDARD
TZOFFSETFROM:-1100
TZOFFSETTO:-1100
TZNAME:SST
DTSTART:19700101T000000
END:STANDARD
END:VTIMEZONE
BEGIN:VEVENT
UID:5072275:Event:867279
DTSTAMP:20260423T191233Z
SUMMARY:Classic Rock and Car Show -Sugar Hill, GA
DESCRIPTION:Classic Rock and Car Show\nIn conjunction with the Classic
  Rock Concert in The Bowl @ Sugar Hill featuring The Fab  Four\n04/25
 /15\n Car Shows: 12pm to 5pm\nConcert: 4pm to 7pm\n5039 West Broad St
 . Sugar Hill, GA\nFor updates visit www.facebook.com/CityofSugarHill\n
 2 Separate Car Shows, VW AND Classic, 1 Rockin’ Concert all at 1 Ven
 ue in Beautiful Downtown Sugar Hill!\nRegistration for the 2 car shows
  start at 12pm, ends at 4pm. Awards presented on stage at the Bowl 5pm
 . Kenny Stephens of Lamar Stephens Custom Interiors will be the judge 
 for the classic car show. Entry fee for the car shows is $20.  The co
 ncert is free! Beatles Mania comes to Sugar Hill!\nClassic Car Show, a
 ll makes and models WELCOMED! VW Car Show, air and water cooled, WELCO
 MED!\nThere will be food vendors and plenty of music to tap your toes 
 to! You don’t want to miss your chance to be seen so bring your Rods
  and Bugs to Sugar Hill and Let’s Rock!\nFor information on the car 
 shows, please contact Steve Soucie at 770-967-2934 or ssoucie1@charter
 .net\n\nFor more information visit https://www.southeastwheelsevents.c
 om/events/classic-rock-and-car-show
DTSTART;TZID=Pacific/Midway:20150425T120000
DTEND;TZID=Pacific/Midway:20150425T170000
CATEGORIES:car, show, and, concert
LOCATION:City Hall
WEBSITE:http://www.facebook.com/CityofSugarHill
URL:http://www.facebook.com/CityofSugarHill
CONTACT:770-967-2934
ORGANIZER;CN="Steve Soucie":https://www.southeastwheelsevents.com/prof
 ile/SteveSoucie
ATTACH;FMTTYPE="image/jpeg":http://storage.ning.com/topology/rest/1.0/
 file/get/967684352?profile=original
ATTENDEE;ROLE=REQ-PARTICIPANT;PARTSTAT=ACCEPTED;RSVP=TRUE;CN="Steve So
 ucie":https://www.southeastwheelsevents.com/profile/SteveSoucie
ATTENDEE;ROLE=REQ-PARTICIPANT;PARTSTAT=TENTATIVE;RSVP=TRUE;CN="Rodney 
 Wallin":https://www.southeastwheelsevents.com/profile/Rodneywallin
ATTENDEE;ROLE=REQ-PARTICIPANT;PARTSTAT=TENTATIVE;RSVP=TRUE;CN="Dale Ni
 cholson":https://www.southeastwheelsevents.com/profile/DaleNicholson
ATTENDEE;ROLE=REQ-PARTICIPANT;PARTSTAT=TENTATIVE;RSVP=TRUE;CN="Mike & 
 Beverly Raznoff":https://www.southeastwheelsevents.com/profile/Beverly
 Raznoff859
END:VEVENT
END:VCALENDAR
