BEGIN:VCALENDAR
PRODID:NingEventWidget-v1
VERSION:2.0
METHOD:PUBLISH
BEGIN:VTIMEZONE
TZID:Pacific/Midway
X-LIC-LOCATION:Pacific/Midway
BEGIN:STANDARD
TZOFFSETFROM:-1100
TZOFFSETTO:-1100
TZNAME:SST
DTSTART:19700101T000000
END:STANDARD
END:VTIMEZONE
BEGIN:VEVENT
UID:5072275:Event:869145
DTSTAMP:20260419T124510Z
SUMMARY:Classic Rock & Classic Cars, Doraville, GA
DESCRIPTION:The \"Boys from Doraville\" are BACK! Bring your pre '75 C
 lassic or Hot Rods out and display it for the show. Classic Car displa
 y area limited to the first 50 cars, so come early. Gates open at 10 A
 M, ARS on stage at 4:00 PM\nYou and all your passengers got in for jus
 t $25!\nFood & Drinks available\nTickets at: vofm.xorbia.com/atlanta-r
 hythm-section\n\nFor more information visit https://www.southeastwheel
 sevents.com/events/classic-rock-classic-cars-doraville-ga
DTSTART;TZID=Pacific/Midway:20150322T100000
DTEND;TZID=Pacific/Midway:20150322T190000
CATEGORIES:classic, rock, concert, car, show
LOCATION:Village Outdoor Market
WEBSITE:http://vofm.xorbia.com/atlanta-rhythm-section
URL:http://vofm.xorbia.com/atlanta-rhythm-section
CONTACT:404-574-3555
ORGANIZER:Marshal Barker
ATTACH;FMTTYPE="image/jpeg":http://storage.ning.com/topology/rest/1.0/
 file/get/967683598?profile=original
ATTENDEE;ROLE=REQ-PARTICIPANT;PARTSTAT=ACCEPTED;RSVP=TRUE;CN="Rick Ell
 is":https://www.southeastwheelsevents.com/profile/RickEllis
END:VEVENT
END:VCALENDAR
