BEGIN:VCALENDAR
PRODID:NingEventWidget-v1
VERSION:2.0
METHOD:PUBLISH
BEGIN:VTIMEZONE
TZID:Pacific/Midway
X-LIC-LOCATION:Pacific/Midway
BEGIN:STANDARD
TZOFFSETFROM:-1100
TZOFFSETTO:-1100
TZNAME:SST
DTSTART:19700101T000000
END:STANDARD
END:VTIMEZONE
BEGIN:VEVENT
UID:5072275:Event:1194534
DTSTAMP:20260420T191809Z
SUMMARY:Classic Car Show - Jonesville, La
DESCRIPTION:This show will be organized in Jonesville, Louisiana.  It
  is also a fundraising event.\n\n\nFor more information visit https://
 www.southeastwheelsevents.com/events/classics-car-show-jonesville-la-1
DTSTART;TZID=Pacific/Midway:20200523T090000
DTEND;TZID=Pacific/Midway:20200523T140000
CATEGORIES:car, show, cruise-in, truck, and, bike
LOCATION:Jonesville, La
WEBSITE:http://sandylakeclassicscarshow@gmail.com
URL:http://sandylakeclassicscarshow@gmail.com
CONTACT:318-339-6259; sandylakeclassicscarshow@gmail.com
ORGANIZER:Tonya Brown
ATTACH;FMTTYPE="image/jpeg":https://storage.ning.com/topology/rest/1.0
 /file/get/3700516148?profile=original
ATTENDEE;ROLE=REQ-PARTICIPANT;PARTSTAT=ACCEPTED;RSVP=TRUE;CN="Anthony 
 Hopkins":https://www.southeastwheelsevents.com/profile/AnthonyHopkins
END:VEVENT
END:VCALENDAR
