BEGIN:VCALENDAR
PRODID:NingEventWidget-v1
VERSION:2.0
METHOD:PUBLISH
BEGIN:VTIMEZONE
TZID:Pacific/Midway
X-LIC-LOCATION:Pacific/Midway
BEGIN:STANDARD
TZOFFSETFROM:-1100
TZOFFSETTO:-1100
TZNAME:SST
DTSTART:19700101T000000
END:STANDARD
END:VTIMEZONE
BEGIN:VEVENT
UID:5072275:Event:1088740
DTSTAMP:20260420T142003Z
SUMMARY:Classics for a Cause Cruise In on the Square - MT PLEASANT, TN
DESCRIPTION:Classics for a Cause Cruise In on the Square.\n\nFor more 
 information visit https://www.southeastwheelsevents.com/events/classic
 s-for-a-cause-cruise-in-on-the-square-mt-pleasant-tn
DTSTART;TZID=Pacific/Midway:20180804T170000
DTEND;TZID=Pacific/Midway:20180804T210000
CATEGORIES:car, show
LOCATION:MT PLEASANT
WEBSITE:http://classicforacause.com
URL:http://classicforacause.com
CONTACT:(931) 446-2385, (931) 446-1998
ORGANIZER:Junior Roberts, Randy Fox
ATTACH;FMTTYPE="image/jpeg":http://storage.ning.com/topology/rest/1.0/
 file/get/967775748?profile=original
ATTENDEE;ROLE=REQ-PARTICIPANT;PARTSTAT=ACCEPTED;RSVP=TRUE;CN="Anthony 
 Hopkins":https://www.southeastwheelsevents.com/profile/AnthonyHopkins
END:VEVENT
END:VCALENDAR
