BEGIN:VCALENDAR
PRODID:NingEventWidget-v1
VERSION:2.0
METHOD:PUBLISH
BEGIN:VTIMEZONE
TZID:Pacific/Midway
X-LIC-LOCATION:Pacific/Midway
BEGIN:STANDARD
TZOFFSETFROM:-1100
TZOFFSETTO:-1100
TZNAME:SST
DTSTART:19700101T000000
END:STANDARD
END:VTIMEZONE
BEGIN:VEVENT
UID:5072275:Event:912588
DTSTAMP:20260420T234933Z
SUMMARY:Classics In The Park Car & Bike Show -Lilburn, GA
DESCRIPTION:This is a judged show for trophies. We use unbiased, train
 ed judges. In addition to the Top Awards, there will be individual awa
 rds for the \"Outstanding Corvette\", \"Outstanding VW\", \"Outstandin
 g Model A Ford\", \"Outstanding Mustang\", \"Best Truck\", \"Best Moto
 rcycle\" and \"Best Car\". And of course, the \"Best In Show\". :-)\n\
 nPlease join us in this beautiful tree lined, grassy park for a fine r
 elaxing day with splendid vehicles and music!\nTO PRE-REGISTER: Email 
 Mike@SouthEastWheelsEvents.com or Call Mike at 770-883-0160. \n\nFor 
 more information visit https://www.southeastwheelsevents.com/events/cl
 assics-in-the-park-car-bike-show-lilburn-ga-1
DTSTART;TZID=Pacific/Midway:20150926T093000
DTEND;TZID=Pacific/Midway:20150926T153000
CATEGORIES:car, "&", motorcycle, show
LOCATION:Lilburn City Park
WEBSITE:http://www.SouthEastWheelsEvents.com/Events
URL:http://www.SouthEastWheelsEvents.com/Events
CONTACT:770-883-0160
ORGANIZER:City of Lilburn
ATTACH;FMTTYPE="image/jpeg":http://storage.ning.com/topology/rest/1.0/
 file/get/967691785?profile=original
ATTENDEE;ROLE=REQ-PARTICIPANT;PARTSTAT=ACCEPTED;RSVP=TRUE;CN="Jerry An
 derson":https://www.southeastwheelsevents.com/profile/JerryAnderson403
ATTENDEE;ROLE=REQ-PARTICIPANT;PARTSTAT=ACCEPTED;RSVP=TRUE;CN="rodney m
 cdaniel":https://www.southeastwheelsevents.com/profile/rodneymcdaniel
ATTENDEE;ROLE=REQ-PARTICIPANT;PARTSTAT=ACCEPTED;RSVP=TRUE;CN="John Cur
 tis Smith":https://www.southeastwheelsevents.com/profile/JohnCurtisSmi
 th
ATTENDEE;ROLE=REQ-PARTICIPANT;PARTSTAT=ACCEPTED;RSVP=TRUE;CN="Mike Hau
 smann":https://www.southeastwheelsevents.com/profile/MikeHausmann
ATTENDEE;ROLE=REQ-PARTICIPANT;PARTSTAT=ACCEPTED;RSVP=TRUE;CN="Brad Ros
 selle":https://www.southeastwheelsevents.com/profile/BradRosselle
ATTENDEE;ROLE=REQ-PARTICIPANT;PARTSTAT=ACCEPTED;RSVP=TRUE;CN="Dan chel
 ko":https://www.southeastwheelsevents.com/profile/Danchelk
ATTENDEE;ROLE=REQ-PARTICIPANT;PARTSTAT=ACCEPTED;RSVP=TRUE;CN="Chris Ha
 nsen":https://www.southeastwheelsevents.com/profile/ChrisHansen
ATTENDEE;ROLE=REQ-PARTICIPANT;PARTSTAT=ACCEPTED;RSVP=TRUE;CN="Mark Owe
 ns":https://www.southeastwheelsevents.com/profile/MarkOwens
ATTENDEE;ROLE=REQ-PARTICIPANT;PARTSTAT=ACCEPTED;RSVP=TRUE;CN="Ted Corl
 ey":https://www.southeastwheelsevents.com/profile/TedCorley
ATTENDEE;ROLE=REQ-PARTICIPANT;PARTSTAT=ACCEPTED;RSVP=TRUE;CN="John Bak
 er":https://www.southeastwheelsevents.com/profile/JohnJBaker
ATTENDEE;ROLE=REQ-PARTICIPANT;PARTSTAT=ACCEPTED;RSVP=TRUE;CN="Dinkie T
 olbert":https://www.southeastwheelsevents.com/profile/DinkieTolbert
ATTENDEE;ROLE=REQ-PARTICIPANT;PARTSTAT=ACCEPTED;RSVP=TRUE;CN="Dale Nic
 holson":https://www.southeastwheelsevents.com/profile/DaleNicholson
ATTENDEE;ROLE=REQ-PARTICIPANT;PARTSTAT=ACCEPTED;RSVP=TRUE;CN="Rodney W
 allin":https://www.southeastwheelsevents.com/profile/Rodneywallin
ATTENDEE;ROLE=REQ-PARTICIPANT;PARTSTAT=ACCEPTED;RSVP=TRUE;CN="Brian Fo
 x":https://www.southeastwheelsevents.com/profile/BrianFox
ATTENDEE;ROLE=REQ-PARTICIPANT;PARTSTAT=ACCEPTED;RSVP=TRUE;CN="Michael 
 Thies":https://www.southeastwheelsevents.com/profile/MichaelThies
ATTENDEE;ROLE=REQ-PARTICIPANT;PARTSTAT=ACCEPTED;RSVP=TRUE;CN="Chuck Aa
 ron":https://www.southeastwheelsevents.com/profile/ChuckAaron
ATTENDEE;ROLE=REQ-PARTICIPANT;PARTSTAT=TENTATIVE;RSVP=TRUE;CN="Lenny  
    Major":https://www.southeastwheelsevents.com/profile/LennyMajor
ATTENDEE;ROLE=REQ-PARTICIPANT;PARTSTAT=TENTATIVE;RSVP=TRUE;CN="Doug Mi
 lls":https://www.southeastwheelsevents.com/profile/DougMills
ATTENDEE;ROLE=REQ-PARTICIPANT;PARTSTAT=TENTATIVE;RSVP=TRUE;CN="Lynn Jo
 seph":https://www.southeastwheelsevents.com/profile/LynnJoseph
END:VEVENT
END:VCALENDAR
