BEGIN:VCALENDAR
PRODID:NingEventWidget-v1
VERSION:2.0
METHOD:PUBLISH
BEGIN:VTIMEZONE
TZID:Pacific/Midway
X-LIC-LOCATION:Pacific/Midway
BEGIN:STANDARD
TZOFFSETFROM:-1100
TZOFFSETTO:-1100
TZNAME:SST
DTSTART:19700101T000000
END:STANDARD
END:VTIMEZONE
BEGIN:VEVENT
UID:5072275:Event:1079720
DTSTAMP:20260423T164409Z
SUMMARY:Clean Culture ATL Auto Fest 2018 -Atlanta, GA
DESCRIPTION:\r\n\r\n\r\n\r\n\r\n\r\nATL Auto Fest\r\n\r\n\r\nUnique In
 door staging, Burnouts, 2-step Comp, Car limbo, Indoor Skate Park, Mod
 els, Fire Pit, Beer Pong Tournaments, Live Music & Much More. Car Sho
 w/Party.Registration open at cleanculturereg.com \r\n\r\n\n\nFor mor
 e information visit https://www.southeastwheelsevents.com/events/clean
 -culture-atl-auto-fest-2018-atlanta-ga
DTSTART;TZID=Pacific/Midway:20180512T170000
DTEND;TZID=Pacific/Midway:20180512T220000
CATEGORIES:carshow, festival
LOCATION:Murphy Park Fairgrounds
WEBSITE:https://www.facebook.com/events/143606086330443
URL:https://www.facebook.com/events/143606086330443
CONTACT:cleancultureevents@gmail.com
ORGANIZER:Clean Culture
ATTACH;FMTTYPE="image/jpeg":http://storage.ning.com/topology/rest/1.0/
 file/get/967760896?profile=original
ATTENDEE;ROLE=REQ-PARTICIPANT;PARTSTAT=ACCEPTED;RSVP=TRUE;CN="Chuck Aa
 ron":https://www.southeastwheelsevents.com/profile/ChuckAaron886
END:VEVENT
END:VCALENDAR
