BEGIN:VCALENDAR
PRODID:NingEventWidget-v1
VERSION:2.0
METHOD:PUBLISH
BEGIN:VTIMEZONE
TZID:Pacific/Midway
X-LIC-LOCATION:Pacific/Midway
BEGIN:STANDARD
TZOFFSETFROM:-1100
TZOFFSETTO:-1100
TZNAME:SST
DTSTART:19700101T000000
END:STANDARD
END:VTIMEZONE
BEGIN:VEVENT
UID:5072275:Event:1079642
DTSTAMP:20260423T191254Z
SUMMARY:Clean Culture SoFlo Showdown 2018 -Jupiter, FL
DESCRIPTION:\r\n\r\n\r\n\r\nSoFlo Showdown 2018 \r\n\r\n\r\n\r\n\r\n\
 r\n\r\n\r\n\r\n\r\n\r\n\r\nClean Culture SoFlo Showdown 2018 will take
  place on 5/12 from 5-10PM EDT at Palm Beach International Raceway. Th
 is event features racing, drifting, a car show, 2-step competition, bu
 rnouts, a stunt show and more! Media will be by @krispy.\r\n\r\n\r\n 
 \r\n\r\n\r\nRegister now: Clean Culture Registration System\r\n\r\n\r\
 n \r\n\r\n\r\nVendor / Sponsor Register Via E-Mail: cleancultureevent
 s@gmail.com \r\n\r\n\r\n(Please include name of company, booth size, a
 mount of display vehicles)\r\n\r\n\r\n\r\n\r\n\r\n\r\n\r\n\r\n\r\n\r\n
 \n\nFor more information visit https://www.southeastwheelsevents.com/e
 vents/clean-culture-soflo-showdown-2018-jupiter-fl
DTSTART;TZID=Pacific/Midway:20180512T170000
DTEND;TZID=Pacific/Midway:20180512T220000
CATEGORIES:carshow, festival
LOCATION:Palm Beach International Raceway
WEBSITE:https://www.cleancultureevents.com/blog/sofloshowdown2018
URL:https://www.cleancultureevents.com/blog/sofloshowdown2018
CONTACT:cleancultureevents@gmail.com
ORGANIZER:Clean Culture
ATTACH;FMTTYPE="image/jpeg":http://storage.ning.com/topology/rest/1.0/
 file/get/967760896?profile=original
ATTENDEE;ROLE=REQ-PARTICIPANT;PARTSTAT=ACCEPTED;RSVP=TRUE;CN="Chuck Aa
 ron":https://www.southeastwheelsevents.com/profile/ChuckAaron886
END:VEVENT
END:VCALENDAR
