BEGIN:VCALENDAR
PRODID:NingEventWidget-v1
VERSION:2.0
METHOD:PUBLISH
BEGIN:VTIMEZONE
TZID:Pacific/Midway
X-LIC-LOCATION:Pacific/Midway
BEGIN:STANDARD
TZOFFSETFROM:-1100
TZOFFSETTO:-1100
TZNAME:SST
DTSTART:19700101T000000
END:STANDARD
END:VTIMEZONE
BEGIN:VEVENT
UID:5072275:Event:1025890
DTSTAMP:20260420T032040Z
SUMMARY:Clermont HOG - Tuesday Fun Ride (CL)
DESCRIPTION:Clermont HOG - Tuesday Fun Ride (CL) will be held at Storm
 y Hill Harley-Davidson, 2480 US-27, Clermont, Florida, United States. 
 COME & ENJOY THIS TUESDAY FUN RIDE. Meet @ 9:00am, Out @ 9:30, Road Ca
 ptains: Needed.\n\nFor more information visit https://www.southeastwhe
 elsevents.com/events/clermont-hog-tuesday-fun-ride-cl
DTSTART;TZID=Pacific/Midway:20161220T090000
DTEND;TZID=Pacific/Midway:20161220T140000
CATEGORIES:motorcycles, "clubs/shows/cruises"
LOCATION:Stormy Hill Harley-Davidson
WEBSITE:http://www.eventslink.net/ems/index.php?CID=136&ID=79699&t=145
 9256400&v=event
URL:http://www.eventslink.net/ems/index.php?CID=136&ID=79699&t=1459256
 400&v=event
CONTACT:
ORGANIZER:Clermont HOG
ATTACH;FMTTYPE="image/jpeg":http://storage.ning.com/topology/rest/1.0/
 file/get/967721141?profile=original
ATTENDEE;ROLE=REQ-PARTICIPANT;PARTSTAT=ACCEPTED;RSVP=TRUE;CN="Chris go
 sney":https://www.southeastwheelsevents.com/profile/Chrisgosney
END:VEVENT
END:VCALENDAR
