BEGIN:VCALENDAR
PRODID:NingEventWidget-v1
VERSION:2.0
METHOD:PUBLISH
BEGIN:VTIMEZONE
TZID:Pacific/Midway
X-LIC-LOCATION:Pacific/Midway
BEGIN:STANDARD
TZOFFSETFROM:-1100
TZOFFSETTO:-1100
TZNAME:SST
DTSTART:19700101T000000
END:STANDARD
END:VTIMEZONE
BEGIN:VEVENT
UID:5072275:Event:396686
DTSTAMP:20260420T081943Z
SUMMARY:Clover Auto Show, Fall Festival & Street Dance, Clover SC	 The
  Clover Jaycees and the Town of Clover bring you the Annual Auto Show 
 & Fall Festival. The day begins Saturday, September 17th at 8:00 a.m
DESCRIPTION:The Clover Jaycees and the Town of Clover bring you the An
 nual Auto Show & Fall Festival. The day begins Saturday, September 17t
 h at 8:00 a.m. with events planned from craft vendors, food vendors, k
 id’s activities, music, and much more! There’s definitely somethin
 g for all ages.   September 17th is also one of those SPECIAL times! W
 e take our Auto Show to the streets of Downtown Clover, and we remembe
 r one of our beloved Jaycee members, DWAYNE ADAMS! For those of you wh
 o never knew Dwayne, he was a burning fire that kept the Clover Jaycee
 s going through some pretty tough years. Don't miss out on seeing all 
 the spectacular vehicles! This year's event features 49 classes, plus 
 our special awards: Best Engine, Best Paint, Best Interior, Furthest D
 istance Traveled and Best of Show in memory of Dwayne Adams! Please jo
 in us on this special day and come out and help us Celebrate Dwayne’
 s Memory!   The evening winds down with our annual Street Dance featur
 ing the popular band “FlashBack”. This group has been performing M
 otown, beach, disco and party music throughout the carolinas for more 
 than 13 years! The street dance will be held from 6:00 p.m. – 10:00 
 p.m. in the Piggly Wiggly parking lot. So bring your lawn chair and ki
 ck back for a wonderful night of entertainment.  To obtain vendor, spo
 nsor or registration information, contact Annette at annetteadams1@yah
 oo.com\n\nFor more information visit https://www.southeastwheelsevents
 .com/events/clover-auto-show-fall-festival-street-dance-clover-sc-the-
 clover
DTSTART;TZID=Pacific/Midway:20110917T000000
DTEND;TZID=Pacific/Midway:20110917T235900
CATEGORIES:fundraiser
LOCATION:Downtown Clover
WEBSITE:http://www.cloversc.info
URL:http://www.cloversc.info
CONTACT:803-222-3227
ORGANIZER;CN="Annette Adams":https://www.southeastwheelsevents.com/pro
 file/AnnetteAdams
ATTACH;FMTTYPE="image/jpeg":
ATTENDEE;ROLE=REQ-PARTICIPANT;PARTSTAT=ACCEPTED;RSVP=TRUE;CN="Annette 
 Adams":https://www.southeastwheelsevents.com/profile/AnnetteAdams
END:VEVENT
END:VCALENDAR
