BEGIN:VCALENDAR
PRODID:NingEventWidget-v1
VERSION:2.0
METHOD:PUBLISH
BEGIN:VTIMEZONE
TZID:Pacific/Midway
X-LIC-LOCATION:Pacific/Midway
BEGIN:STANDARD
TZOFFSETFROM:-1100
TZOFFSETTO:-1100
TZNAME:SST
DTSTART:19700101T000000
END:STANDARD
END:VTIMEZONE
BEGIN:VEVENT
UID:5072275:Event:1091857
DTSTAMP:20260423T102903Z
SUMMARY:Coffee and Cars Cruise in - Greensville, Sc
DESCRIPTION:All Vehicles are welcome, time 8 to 11. Hot Coffee come en
 joy cool cars and great people. 4 Saturdays of each month year round.\
 nMichelin North America Headquarters upper parking lot exit 54 off Of 
 I-85. Weather Permitting\n\nFor more information visit https://www.sou
 theastwheelsevents.com/events/coffee-and-cars-cruise-in-greensville-sc
DTSTART;TZID=Pacific/Midway:20180728T080000
DTEND;TZID=Pacific/Midway:20180728T110000
CATEGORIES:car, show, cruise-in
LOCATION:Michelin North America Inc.
WEBSITE:https://www.google.co.in/maps/place/Michelin+North+America+Inc
 ./@34.8609544,-82.2603773,17z/data=!3m1!4b1!4m5!3m4!1s0x88582975627dd5
 7d:0x1a54c4460eb42e11!8m2!3d34.8609544!4d-82.2581886
URL:https://www.google.co.in/maps/place/Michelin+North+America+Inc./@3
 4.8609544,-82.2603773,17z/data=!3m1!4b1!4m5!3m4!1s0x88582975627dd57d:0
 x1a54c4460eb42e11!8m2!3d34.8609544!4d-82.2581886
CONTACT:
ORGANIZER:
ATTACH;FMTTYPE="image/jpeg":http://storage.ning.com/topology/rest/1.0/
 file/get/967786784?profile=original
ATTENDEE;ROLE=REQ-PARTICIPANT;PARTSTAT=ACCEPTED;RSVP=TRUE;CN="Anthony 
 Hopkins":https://www.southeastwheelsevents.com/profile/AnthonyHopkins
END:VEVENT
END:VCALENDAR
