BEGIN:VCALENDAR
PRODID:NingEventWidget-v1
VERSION:2.0
METHOD:PUBLISH
BEGIN:VTIMEZONE
TZID:Pacific/Midway
X-LIC-LOCATION:Pacific/Midway
BEGIN:STANDARD
TZOFFSETFROM:-1100
TZOFFSETTO:-1100
TZNAME:SST
DTSTART:19700101T000000
END:STANDARD
END:VTIMEZONE
BEGIN:VEVENT
UID:5072275:Event:1105462
DTSTAMP:20260420T030324Z
SUMMARY:Coffee and Donuts Cruise-In - Conyers, GA
DESCRIPTION:Melvin's Classic Ford Parts Conyers, GA, United States\n\n
 For more information visit https://www.southeastwheelsevents.com/event
 s/coffeeand-donuts-cruise-in-conyers-ga
DTSTART;TZID=Pacific/Midway:20201107T090000
DTEND;TZID=Pacific/Midway:20201107T120000
CATEGORIES:car, show, cruise, in
LOCATION:Melvin's Classic Ford Parts,
WEBSITE:https://www.facebook.com/permalink.php?story_fbid=564400637325
 083&amp;amp;id=100012654555062
URL:https://www.facebook.com/permalink.php?story_fbid=564400637325083&
 amp;amp;id=100012654555062
CONTACT:770-761-6800
ORGANIZER:Melvin's Classic Ford Parts
ATTACH;FMTTYPE="image/jpeg":http://storage.ning.com/topology/rest/1.0/
 file/get/967802617?profile=original
ATTENDEE;ROLE=REQ-PARTICIPANT;PARTSTAT=ACCEPTED;RSVP=TRUE;CN="Anthony 
 Hopkins":https://www.southeastwheelsevents.com/profile/AnthonyHopkins
END:VEVENT
END:VCALENDAR
