BEGIN:VCALENDAR
PRODID:NingEventWidget-v1
VERSION:2.0
METHOD:PUBLISH
BEGIN:VTIMEZONE
TZID:Pacific/Midway
X-LIC-LOCATION:Pacific/Midway
BEGIN:STANDARD
TZOFFSETFROM:-1100
TZOFFSETTO:-1100
TZNAME:SST
DTSTART:19700101T000000
END:STANDARD
END:VTIMEZONE
BEGIN:VEVENT
UID:5072275:Event:1274915
DTSTAMP:20260423T230339Z
SUMMARY:Cool Cars at Briscoe Park - Spring '26 - Snellville, GA
DESCRIPTION:ALL Years – Makes – Models Welcome!\r\nPopular Choice 
 Awards\r\n(Best Classic, Best Modern, Top 20 and several Special Award
 s)\r\n50/50 Raffle - Door Prizes - Food Vendors - Music\r\nAmple Show 
 Car & Spectator Parking\r\nFundraiser for SE Gwinnett Co-op Ministry\r
 \nShow Car Entry Fee: $20\r\n100% of proceeds will benefit Southeast G
 winnett Cooperative Ministry\r\nHelping Local Citizens in Need!\r\nSpe
 ctators Welcome & Admitted Free!\r\nRegistration opens at 10:00 am - N
 O preregistration\r\nGeorgia Cool Cruisers, Inc. is a 501c3 non profit
 , all Volunteer organization.\n\nFor more information visit https://ww
 w.southeastwheelsevents.com/events/cool-cars-at-briscoe-park-spring-26
 -snellville-ga
DTSTART;TZID=Pacific/Midway:20260425T110000
DTEND;TZID=Pacific/Midway:20260425T150000
CATEGORIES:open, car, show, charity, fundraiser
LOCATION:Snellville's BRISCOE PARK
WEBSITE:http://GeorgiaCoolCruisers.org
URL:http://GeorgiaCoolCruisers.org
CONTACT:4047326842
ORGANIZER:Rick Ellis
ATTACH;FMTTYPE="image/jpeg":https://storage.ning.com/topology/rest/1.0
 /file/get/12149310670?profile=original
ATTENDEE;ROLE=REQ-PARTICIPANT;PARTSTAT=ACCEPTED;RSVP=TRUE;CN="Chuck Aa
 ron":https://www.southeastwheelsevents.com/profile/ChuckAaron886
END:VEVENT
END:VCALENDAR
