BEGIN:VCALENDAR
PRODID:NingEventWidget-v1
VERSION:2.0
METHOD:PUBLISH
BEGIN:VTIMEZONE
TZID:Pacific/Midway
X-LIC-LOCATION:Pacific/Midway
BEGIN:STANDARD
TZOFFSETFROM:-1100
TZOFFSETTO:-1100
TZNAME:SST
DTSTART:19700101T000000
END:STANDARD
END:VTIMEZONE
BEGIN:VEVENT
UID:5072275:Event:1275254
DTSTAMP:20260423T083322Z
SUMMARY:Cool Cars at Briscoe Park - Spring '26
DESCRIPTION:ALL Years – Makes – Models Welcome!\nPopular Choice Aw
 ards\n(Best Classic, Best Modern, Top 20 and several Special Awards)\n
 50/50 Raffle - Door Prizes - Food Vendors - Music\nAmple Show Car & Sp
 ectator Parking\nFundraiser for SE Gwinnett Co-op Ministry\nShow Car E
 ntry Fee: $20\n100% of proceeds will benefit Southeast Gwinnett Cooper
 ative Ministry\nHelping Local Citizens in Need!\nSpectators Welcome & 
 Admitted Free!\nRegistration opens at 10:00 am - NO preregistration\nG
 eorgia Cool Cruisers, Inc. is a 501c3 non profit, all Volunteer organi
 zation.\n\nFor more information visit https://www.southeastwheelsevent
 s.com/events/cool-cars-at-briscoe-park-spring-26
DTSTART;TZID=Pacific/Midway:20260425T110000
DTEND;TZID=Pacific/Midway:20260425T150000
CATEGORIES:open, car, show, charity, fundraiser
LOCATION:Snellville's BRISCOE PARK
WEBSITE:http://GeorgiaCoolCruisers.org
URL:http://GeorgiaCoolCruisers.org
CONTACT:4047326842
ORGANIZER;CN="Rick Ellis":https://www.southeastwheelsevents.com/profil
 e/RickEllis
ATTACH;FMTTYPE="image/jpeg":https://storage.ning.com/topology/rest/1.0
 /file/get/12149310670?profile=original
ATTENDEE;ROLE=REQ-PARTICIPANT;PARTSTAT=ACCEPTED;RSVP=TRUE;CN="Rick Ell
 is":https://www.southeastwheelsevents.com/profile/RickEllis
END:VEVENT
END:VCALENDAR
