BEGIN:VCALENDAR
PRODID:NingEventWidget-v1
VERSION:2.0
METHOD:PUBLISH
BEGIN:VTIMEZONE
TZID:Pacific/Midway
X-LIC-LOCATION:Pacific/Midway
BEGIN:STANDARD
TZOFFSETFROM:-1100
TZOFFSETTO:-1100
TZNAME:SST
DTSTART:19700101T000000
END:STANDARD
END:VTIMEZONE
BEGIN:VEVENT
UID:5072275:Event:552941
DTSTAMP:20260423T014724Z
SUMMARY:Corvette Cruisers of Atlanta Wednesday Night Dinner -Lawrencev
 ille, GA
DESCRIPTION:\nWednesday, August 29th – 6:30 pm\nPapi's Cuban & Carib
 bean Grill\nMerton Walk Shopping Center\n(Publix, across from Old Town
  Tavern)\n911 Duluth Hwy, Lawrenceville, GA\n(770) 237-8889\nwww.papis
 grill.com\nPlease reply to kmgalloway@mindspring.com by 4:30 pm Wednes
 day if you are going to join in.\n\nFor more information visit https:/
 /www.southeastwheelsevents.com/events/corvette-cruisers-of-atlanta-wed
 nesday-night-dinner-lawrenceville
DTSTART;TZID=Pacific/Midway:20120829T183000
DTEND;TZID=Pacific/Midway:20120829T210000
CATEGORIES:dinner
LOCATION:Papi's Cuban & Caribbean Grill
WEBSITE:http://www.corvettecruisersofatlanta.com/
URL:http://www.corvettecruisersofatlanta.com/
CONTACT:(770) 237-8889
ORGANIZER:Kay Galloway
ATTACH;FMTTYPE="image/jpeg":http://storage.ning.com/topology/rest/1.0/
 file/get/967624027?profile=original
ATTENDEE;ROLE=REQ-PARTICIPANT;PARTSTAT=ACCEPTED;RSVP=TRUE;CN="Michael 
 Thies":https://www.southeastwheelsevents.com/profile/MichaelThies
END:VEVENT
END:VCALENDAR
