BEGIN:VCALENDAR
PRODID:NingEventWidget-v1
VERSION:2.0
METHOD:PUBLISH
BEGIN:VTIMEZONE
TZID:Pacific/Midway
X-LIC-LOCATION:Pacific/Midway
BEGIN:STANDARD
TZOFFSETFROM:-1100
TZOFFSETTO:-1100
TZNAME:SST
DTSTART:19700101T000000
END:STANDARD
END:VTIMEZONE
BEGIN:VEVENT
UID:5072275:Event:1080802
DTSTAMP:20260423T152610Z
SUMMARY:Corvette Invasion 2018 - Austin, Tx
DESCRIPTION:The largest Corvette car show in Texas!!! \n#SREPromotion
 s presents the 6th annual Corvette Invasion\nThis year’s event will 
 be bigger and better than ever.\nFriday Night, we encourage you to com
 e out for the meet and greet at the Hampton Inn and Suites located at 
 240 S Hasler Blvd, in Bastrop, TX 78602\nSaturday Morning, there will 
 be a few different excursions to choose from (details will be emailed 
 to you at a later time)\nThen between 3:00pm- 7:00pm all Corvette owne
 rs will meetup at the Circuit of the Americas racetrack for a Corvette
  Car Show and Shine, Vendors and Live Music.\nThen Saturday evening th
 e Corvettes will migrate over into the paddock area. Awards will be an
 nounced that evening.\nDon't miss this experience of a lifetime and dr
 ive your Corvette around the only F1 track in America.\nPLEASE NOTE: H
 eadlights must work, tires, brakes, hoses and belts must be in good sh
 ape before driving on track. Your car could be looked over by a pre-ch
 eck safety specialist before. If you do not meet the safety requiremen
 ts you will not be allowed on track and will not receive any refunds. 
 (These laps will be at a controlled speed and no driver will be allowe
 d to pass the pace cars. Helmets are not required but are recommended)
 \nThe Final Day to Pre-Register will be Friday July 6th and No Refunds
  will be issued after July 1. 2018. On the day of the event, registrat
 ion goes up to $120 per driver. There will be NO GUARANTEE you will ge
 t to participate in the parade lap if you wait the day of the event as
  spaces are limited.\nEach registration is for (1 vehicle with up to 2
  passengers)\nThis is Rain or Shine Event and Open to Corvette Registr
 ation Only\nLast item, on Sunday morning between 9am-11am we will inva
 de the Oasis Restaurant located at 6550 Comanche Trail, Austin, TX 787
 32, there we will all have an early lunch while enjoying the views on 
 Lake Travis before everyone heads back home.\nPurchase your tickers he
 re or on our website https://www.eventbrite.com/e/corvette-invasion-20
 18-tickets-43320878915\nwww.CorvetteInvasion.com\n\nFor more informati
 on visit https://www.southeastwheelsevents.com/events/corvette-invasio
 n-2018-austin-tx
DTSTART;TZID=Pacific/Midway:20180720T180000
DTEND;TZID=Pacific/Midway:20180722T190000
CATEGORIES:car, show, weekend, full, of, all, kinds, different, "activ
 ities!!!"
LOCATION:Circuits Of The Americas - Austin Texas
WEBSITE:http://www.corvetteinvasion.com
URL:http://www.corvetteinvasion.com
CONTACT:www.corvetteinvasion.com
ORGANIZER:SRE Productions
ATTACH;FMTTYPE="image/jpeg":http://storage.ning.com/topology/rest/1.0/
 file/get/967763218?profile=original
ATTENDEE;ROLE=REQ-PARTICIPANT;PARTSTAT=ACCEPTED;RSVP=TRUE;CN=Jake:http
 s://www.southeastwheelsevents.com/profile/Jake
END:VEVENT
END:VCALENDAR
