BEGIN:VCALENDAR
PRODID:NingEventWidget-v1
VERSION:2.0
METHOD:PUBLISH
BEGIN:VTIMEZONE
TZID:Pacific/Midway
X-LIC-LOCATION:Pacific/Midway
BEGIN:STANDARD
TZOFFSETFROM:-1100
TZOFFSETTO:-1100
TZNAME:SST
DTSTART:19700101T000000
END:STANDARD
END:VTIMEZONE
BEGIN:VEVENT
UID:5072275:Event:987297
DTSTAMP:20260423T224923Z
SUMMARY:Corvette Night Music on Main Downtown -Hendersonville, NC
DESCRIPTION:\n\nCorvette Night Music on Main Downtown Hendersonville, 
 NC\n \n\n\nFor more information visit https://www.southeastwheelseven
 ts.com/events/corvette-night-music-on-main-downtown-hendersonville-nc-
 1
DTSTART;TZID=Pacific/Midway:20160701T170000
DTEND;TZID=Pacific/Midway:20160701T210000
CATEGORIES:car-show, cruise-in
LOCATION:Downtown
WEBSITE:http://vettesofthesmokies.com/
URL:http://vettesofthesmokies.com/
CONTACT:251-867-4781
ORGANIZER:Hendersonville, NC
ATTACH;FMTTYPE="image/jpeg":http://storage.ning.com/topology/rest/1.0/
 file/get/967704553?profile=original
ATTENDEE;ROLE=REQ-PARTICIPANT;PARTSTAT=ACCEPTED;RSVP=TRUE;CN="Chuck Aa
 ron":https://www.southeastwheelsevents.com/profile/ChuckAaron
END:VEVENT
END:VCALENDAR
