BEGIN:VCALENDAR
PRODID:NingEventWidget-v1
VERSION:2.0
METHOD:PUBLISH
BEGIN:VTIMEZONE
TZID:Pacific/Midway
X-LIC-LOCATION:Pacific/Midway
BEGIN:STANDARD
TZOFFSETFROM:-1100
TZOFFSETTO:-1100
TZNAME:SST
DTSTART:19700101T000000
END:STANDARD
END:VTIMEZONE
BEGIN:VEVENT
UID:5072275:Event:893453
DTSTAMP:20260424T080733Z
SUMMARY:Corvettes at the Beach All Corvette Show -Myrtle Beach, NC
DESCRIPTION:Annual 'Corvettes At Myrtle Beach'   \r\nPlease join us in
  beautiful Myrtle Beach, South Carolina for our Annual Corvette Show, 
 “Corvettes at Myrtle Beach”, hosted by the Myrtle Beach Corvette 
 Club. We begin the festivities with our Friday night “Pre-Car Show 
 Party” at Landmark Resort overlooking the beautiful Atlantic Ocea
 n. The maximum seating capacity for the pre-show party is 250.  We h
 ave protected parking to walk around and view our cars, beautiful 
 ambiance in the Banquet Room, delicious dinner, a DJ and dance floor, 
 an easy-to-find location, enough space for a great time and fun for ev
 eryone.\r\n The official sponsor hotel of this year’s car show is 
 Landmark Resort, 1501 South Ocean Blvd, Myrtle Beach, SC 29577.  Call
  Toll Free: (800-845-0658) for reservations; tell them you are with t
 he Myrtle Beach Corvette Club Car Show and you should receive the s
 pecial rate. Rooms have been blocked for Interior, Ocean view, Oceanfr
 ont, and Suites. Prices range from $80.00 plus tax for an interior roo
 m to $186.00 plus tax for a deluxe oceanfront suite plus tax.  \r\nE
 veryone who pre-registers will receive a goody bag, containing an even
 t T-shirt (first 150 pre-registrants), dash plaque and other mementos.
  We will have trophy classes covering the C1 to C7 models.  Judging 
 will be done by unbiased MBCC members.  Trophies will be awarded at t
 he show.  Trophies will also be awarded for The Longest Distance Trav
 eled , Best in Show, Club Participation, Ladies Choice and other Speci
 alty Classifications.  The National Corvette Museum will have items f
 or sale; there are plenty of door prizes, numerous food and auto vendo
 rs, and entertainment.  The show is being held at Broadway at the Be
 ach on the 21st Avenue North side of the park,(www.broadwayatthebeach
 .com), the same location as last year.\r\nPre-registration can be down
 -loaded through our websitewww.myrtlebeachcorvetteclub.com by clickin
 g on the “MB Car Show” tab on the website. Men and women’s ca
 r show shirts will be available for purchase the day of the show. ... 
 Women’s shirts run a little small. \r\n For all pre-registrants wh
 o wish to attend Friday evening’s Pre-Car Show Party, it will be he
 ld at the Landmark Resort at 1501 South Ocean Blvd, Myrtle Beach.\r\n
   Please check our website atwww.myrtlebeachcorvetteclub.com , or c
 ontact Richard Harris with your questions and/or to request additional
  information. See you at the show!\r\n  Location:\n\nFor more informa
 tion visit https://www.southeastwheelsevents.com/events/corvettes-at-t
 he-beach-all-corvette-show-myrtle-beach-nc-1
DTSTART;TZID=Pacific/Midway:20190531T170000
DTEND;TZID=Pacific/Midway:20190601T160000
CATEGORIES:corvette, show
LOCATION:Broadway On The Beach
WEBSITE:http://www.myrtlebeachcorvetteclub.com
URL:http://www.myrtlebeachcorvetteclub.com
CONTACT:Linda 843-340-1731
ORGANIZER:Myrtle Beach Corvette Club
ATTACH;FMTTYPE="image/jpeg":http://storage.ning.com/topology/rest/1.0/
 file/get/967663686?profile=original
ATTENDEE;ROLE=REQ-PARTICIPANT;PARTSTAT=ACCEPTED;RSVP=TRUE;CN="Chuck Aa
 ron":https://www.southeastwheelsevents.com/profile/ChuckAaron
END:VEVENT
END:VCALENDAR
