BEGIN:VCALENDAR
PRODID:NingEventWidget-v1
VERSION:2.0
METHOD:PUBLISH
BEGIN:VTIMEZONE
TZID:Pacific/Midway
X-LIC-LOCATION:Pacific/Midway
BEGIN:STANDARD
TZOFFSETFROM:-1100
TZOFFSETTO:-1100
TZNAME:SST
DTSTART:19700101T000000
END:STANDARD
END:VTIMEZONE
BEGIN:VEVENT
UID:5072275:Event:1087621
DTSTAMP:20260422T134335Z
SUMMARY:Cotton Flats Cruisers 14h Annual Car Show - Russelville,AL
DESCRIPTION:Cotton Flats Cruisers 14th Annual Car Show at Sloss Lake.\
 n\nFor more information visit https://www.southeastwheelsevents.com/ev
 ents/cotton-flats-cruisers-9th-annual-car-shoir-russellville-al
DTSTART;TZID=Pacific/Midway:20250704T070000
DTEND;TZID=Pacific/Midway:20250704T140000
CATEGORIES:car, show
LOCATION:Sloss Lake
WEBSITE:
URL:
CONTACT:(256) 332-6585
ORGANIZER:
ATTACH;FMTTYPE="image/jpeg":http://storage.ning.com/topology/rest/1.0/
 file/get/967776142?profile=original
ATTENDEE;ROLE=REQ-PARTICIPANT;PARTSTAT=ACCEPTED;RSVP=TRUE;CN="Anthony 
 Hopkins":https://www.southeastwheelsevents.com/profile/AnthonyHopkins
END:VEVENT
END:VCALENDAR
