BEGIN:VCALENDAR
PRODID:NingEventWidget-v1
VERSION:2.0
METHOD:PUBLISH
BEGIN:VTIMEZONE
TZID:Pacific/Midway
X-LIC-LOCATION:Pacific/Midway
BEGIN:STANDARD
TZOFFSETFROM:-1100
TZOFFSETTO:-1100
TZNAME:SST
DTSTART:19700101T000000
END:STANDARD
END:VTIMEZONE
BEGIN:VEVENT
UID:5072275:Event:16505
DTSTAMP:20260420T233718Z
SUMMARY:Country Cruisers Hot Rod Seminar -Reynolds, GA
DESCRIPTION:2nd Annual Country Cruisers Hot Rod Seminar -Reynolds, GA\
 nInfo Hank McMillan 478-719-8849\n\nFor more information visit https:/
 /www.southeastwheelsevents.com/events/country-cruisers-hot-rod
DTSTART;TZID=Pacific/Midway:20100417T080000
DTEND;TZID=Pacific/Midway:20100417T160000
CATEGORIES:seminar
LOCATION:Flint EMC Headquarters
WEBSITE:
URL:
CONTACT:Hank McMillan 478-719-8849
ORGANIZER:Country Cruisers
ATTACH;FMTTYPE="image/jpeg":http://storage.ning.com/topology/rest/1.0/
 file/get/967575414?profile=original
ATTENDEE;ROLE=REQ-PARTICIPANT;PARTSTAT=ACCEPTED;RSVP=TRUE;CN="Michael 
 Thies":https://www.southeastwheelsevents.com/profile/MichaelThies
END:VEVENT
END:VCALENDAR
