BEGIN:VCALENDAR
PRODID:NingEventWidget-v1
VERSION:2.0
METHOD:PUBLISH
BEGIN:VTIMEZONE
TZID:Pacific/Midway
X-LIC-LOCATION:Pacific/Midway
BEGIN:STANDARD
TZOFFSETFROM:-1100
TZOFFSETTO:-1100
TZNAME:SST
DTSTART:19700101T000000
END:STANDARD
END:VTIMEZONE
BEGIN:VEVENT
UID:5072275:Event:178743
DTSTAMP:20260425T074859Z
SUMMARY:COUNTY LINE BAPTIST CHURCH CAR AND BIKE SHOW -Jasper, GA
DESCRIPTION:   The second annual County Line Baptist Church car show
  will be held at JASPER JEEP located at  1050 Hwy 515, Jasper, Ga. Sa
 turday June 4th\n   Awards will be given for the top 30 cars,and tr
 ucks, along with the top 10 motorcycles.\n   Special awards are Be
 st Of Show Car, Best Truck or SUV, Best Motorcycle, One Peoples Choice
 , Best Engine, and Pastors Choice.\n   All money raised will be use
 d for missionary trips for the church youth group.\n  All cars and bi
 kes have to be registered by 12:00 noon to be judged.\n  To view the
  flyer visit www.countylinebaptistchurch.com\n\nFor more information v
 isit https://www.southeastwheelsevents.com/events/county-line-baptist-
 church-car-1
DTSTART;TZID=Pacific/Midway:20110604T090000
DTEND;TZID=Pacific/Midway:20110604T150000
CATEGORIES:fundraiser, for, the, church, youth, group
LOCATION:JASPER JEEP
WEBSITE:
URL:
CONTACT:706-253-4852
ORGANIZER;CN="David Owens":https://www.southeastwheelsevents.com/profi
 le/DavidOwens
ATTACH;FMTTYPE="image/jpeg":
ATTENDEE;ROLE=REQ-PARTICIPANT;PARTSTAT=ACCEPTED;RSVP=TRUE;CN="Mack Tur
 ner":https://www.southeastwheelsevents.com/profile/MackTurner
ATTENDEE;ROLE=REQ-PARTICIPANT;PARTSTAT=ACCEPTED;RSVP=TRUE;CN="Rodney W
 allin":https://www.southeastwheelsevents.com/profile/Rodneywallin
ATTENDEE;ROLE=REQ-PARTICIPANT;PARTSTAT=ACCEPTED;RSVP=TRUE;CN="David Ow
 ens":https://www.southeastwheelsevents.com/profile/DavidOwens
END:VEVENT
END:VCALENDAR
