BEGIN:VCALENDAR
PRODID:NingEventWidget-v1
VERSION:2.0
METHOD:PUBLISH
BEGIN:VTIMEZONE
TZID:Pacific/Midway
X-LIC-LOCATION:Pacific/Midway
BEGIN:STANDARD
TZOFFSETFROM:-1100
TZOFFSETTO:-1100
TZNAME:SST
DTSTART:19700101T000000
END:STANDARD
END:VTIMEZONE
BEGIN:VEVENT
UID:5072275:Event:1099278
DTSTAMP:20260420T061634Z
SUMMARY:County Line Church Annual Car Show - Hampton, Ga
DESCRIPTION:3913 Jonesboro Road\n\nFor more information visit https://
 www.southeastwheelsevents.com/events/county-line-church-annual-car-sho
 w-hampton-ga
DTSTART;TZID=Pacific/Midway:20180922T100000
DTEND;TZID=Pacific/Midway:20180922T140000
CATEGORIES:car, show, cruise, in
LOCATION:County Line Church ,
WEBSITE:https://www.google.co.in/maps/place/County-Line+Congregational
 /@33.4682499,-84.2850377,17z/data=!3m1!4b1!4m5!3m4!1s0x88f4f7ec120c48b
 9:0x61c624c9d0562140!8m2!3d33.4682454!4d-84.282849
URL:https://www.google.co.in/maps/place/County-Line+Congregational/@33
 .4682499,-84.2850377,17z/data=!3m1!4b1!4m5!3m4!1s0x88f4f7ec120c48b9:0x
 61c624c9d0562140!8m2!3d33.4682454!4d-84.282849
CONTACT:(770) 827-5357
ORGANIZER:Tom Lynde
ATTACH;FMTTYPE="image/jpeg":http://storage.ning.com/topology/rest/1.0/
 file/get/967798217?profile=original
ATTENDEE;ROLE=REQ-PARTICIPANT;PARTSTAT=ACCEPTED;RSVP=TRUE;CN="Anthony 
 Hopkins":https://www.southeastwheelsevents.com/profile/AnthonyHopkins
END:VEVENT
END:VCALENDAR
