BEGIN:VCALENDAR
PRODID:NingEventWidget-v1
VERSION:2.0
METHOD:PUBLISH
BEGIN:VTIMEZONE
TZID:Pacific/Midway
X-LIC-LOCATION:Pacific/Midway
BEGIN:STANDARD
TZOFFSETFROM:-1100
TZOFFSETTO:-1100
TZNAME:SST
DTSTART:19700101T000000
END:STANDARD
END:VTIMEZONE
BEGIN:VEVENT
UID:5072275:Event:896397
DTSTAMP:20260423T143846Z
SUMMARY:Coupe Cure Cruise -Bon Aqua, TN
DESCRIPTION:Relay for LIfe \"Coupe Cure Cruise\" Cars & Motorcycles, t
 ribute Memorial to Ray Carlisle. Location: 10828 New Cut Off Road, Bon
  Aqua, TN 37025. Hours: Noon til midnight, Ride starts at 1pm, $10 per
  vehicle. Live Bands starting at 4pm. Auctions: Live and Silent, food 
 plate deals.  More info, WEBSITE  FLYER\n\n\nFor more information 
 visit https://www.southeastwheelsevents.com/events/coupe-cure-cruise-b
 on-aqua-tn
DTSTART;TZID=Pacific/Midway:20150606T120000
DTEND;TZID=Pacific/Midway:20150606T230000
CATEGORIES:cruise-in
LOCATION:10828 New Cut Off Road
WEBSITE:http://www.facebook.com/groups/169715865839/
URL:http://www.facebook.com/groups/169715865839/
CONTACT:
ORGANIZER:Memorial to Ray Carlisle
ATTACH;FMTTYPE="image/jpeg":http://storage.ning.com/topology/rest/1.0/
 file/get/967685903?profile=original
ATTENDEE;ROLE=REQ-PARTICIPANT;PARTSTAT=ACCEPTED;RSVP=TRUE;CN="Chuck Aa
 ron":https://www.southeastwheelsevents.com/profile/ChuckAaron
END:VEVENT
END:VCALENDAR
