BEGIN:VCALENDAR
PRODID:NingEventWidget-v1
VERSION:2.0
METHOD:PUBLISH
BEGIN:VTIMEZONE
TZID:Pacific/Midway
X-LIC-LOCATION:Pacific/Midway
BEGIN:STANDARD
TZOFFSETFROM:-1100
TZOFFSETTO:-1100
TZNAME:SST
DTSTART:19700101T000000
END:STANDARD
END:VTIMEZONE
BEGIN:VEVENT
UID:5072275:Event:28671
DTSTAMP:20260419T145825Z
SUMMARY:Coweta Fayette Rotary Club 3rd Annual Car Show -Peachtree City
 , GA
DESCRIPTION:3rd Annual car & motorcycle show to be held at Drake Field
 \nin Peachtree City,Ga June 12th with a rain date of June 19th.\n\nThe
  show is held on Drake Field next to Lake Peachtree.\n\nVehicle entry 
 fee is cars & trucks $15.00 in advance,$20.00 day of Motorcycle $10.00
  advance,$15.00 day of show\n\nNo entrance fee\n\nFor more information
  visit https://www.southeastwheelsevents.com/events/coweta-fayette-rot
 ary-club-3rd
DTSTART;TZID=Pacific/Midway:20100612T110000
DTEND;TZID=Pacific/Midway:20100612T150000
CATEGORIES:proceeds, to, benefit, rotary, foudation, fayette, ged, pro
 gram, haiti, mission, "&", polio, plus
LOCATION:Drake Field
WEBSITE:
URL:
CONTACT:770-231-3747
ORGANIZER:Coweta Fayette Rotary Club
ATTACH;FMTTYPE="image/jpeg":
ATTENDEE;ROLE=REQ-PARTICIPANT;PARTSTAT=ACCEPTED;RSVP=TRUE;CN="Earl Ran
 dall":https://www.southeastwheelsevents.com/profile/EarlRandall
END:VEVENT
END:VCALENDAR
