BEGIN:VCALENDAR
PRODID:NingEventWidget-v1
VERSION:2.0
METHOD:PUBLISH
BEGIN:VTIMEZONE
TZID:Pacific/Midway
X-LIC-LOCATION:Pacific/Midway
BEGIN:STANDARD
TZOFFSETFROM:-1100
TZOFFSETTO:-1100
TZNAME:SST
DTSTART:19700101T000000
END:STANDARD
END:VTIMEZONE
BEGIN:VEVENT
UID:5072275:Event:853821
DTSTAMP:20260423T232512Z
SUMMARY:Create Your Own Hershey's Kissmobile
DESCRIPTION:Known year-round as The Sweetest Place on Earth, Hershey i
 s celebrating February as a special month with a town-wide celebration
  of all things chocolate.  As part of our Chocolate Covered February 
 festivities, guests can build their own Kissmobile out of Hershey’s 
 chocolate products on President’s Day, February 16, 2015 from 1- 3 
 pm. \n\nFor more information visit https://www.southeastwheelsevents.
 com/events/create-your-own-hershey-s-kissmobile
DTSTART;TZID=Pacific/Midway:20150216T130000
DTEND;TZID=Pacific/Midway:20150216T150000
CATEGORIES:community
LOCATION:AACA Museum
WEBSITE:http://www.aacamuseum.org/create-hersheys-kissmobile/
URL:http://www.aacamuseum.org/create-hersheys-kissmobile/
CONTACT:717-566-7100
ORGANIZER;CN="AACA Museum":https://www.southeastwheelsevents.com/profi
 le/AACAMuseum
ATTACH;FMTTYPE="image/jpeg":http://storage.ning.com/topology/rest/1.0/
 file/get/967674945?profile=original
ATTENDEE;ROLE=REQ-PARTICIPANT;PARTSTAT=ACCEPTED;RSVP=TRUE;CN="AACA Mus
 eum":https://www.southeastwheelsevents.com/profile/AACAMuseum
END:VEVENT
END:VCALENDAR
