BEGIN:VCALENDAR
PRODID:NingEventWidget-v1
VERSION:2.0
METHOD:PUBLISH
BEGIN:VTIMEZONE
TZID:Pacific/Midway
X-LIC-LOCATION:Pacific/Midway
BEGIN:STANDARD
TZOFFSETFROM:-1100
TZOFFSETTO:-1100
TZNAME:SST
DTSTART:19700101T000000
END:STANDARD
END:VTIMEZONE
BEGIN:VEVENT
UID:5072275:Event:1273823
DTSTAMP:20260425T030058Z
SUMMARY:Creative Enterprises at 50 Car Show - Lawrenceville, GA
DESCRIPTION:Car Show celebrating 50 years of changing the lives of adu
 lts with disabilities. This will be a community event in partnership w
 ith Beyond the Ribbon.\n\nFor more information visit https://www.south
 eastwheelsevents.com/events/creative-enterprises-at-50-car-show
DTSTART;TZID=Pacific/Midway:20260425T100000
DTEND;TZID=Pacific/Midway:20260425T150000
CATEGORIES:car, show
LOCATION:Creative Enterprises
WEBSITE:
URL:
CONTACT:951-603-6802
ORGANIZER;CN="Melanie Hoit":https://www.southeastwheelsevents.com/prof
 ile/MelanieHoit
ATTACH;FMTTYPE="image/jpeg":https://storage.ning.com/topology/rest/1.0
 /file/get/31101243690?profile=original
ATTENDEE;ROLE=REQ-PARTICIPANT;PARTSTAT=ACCEPTED;RSVP=TRUE;CN="Melanie 
 Hoit":https://www.southeastwheelsevents.com/profile/MelanieHoit
END:VEVENT
END:VCALENDAR
