BEGIN:VCALENDAR
PRODID:NingEventWidget-v1
VERSION:2.0
METHOD:PUBLISH
BEGIN:VTIMEZONE
TZID:Pacific/Midway
X-LIC-LOCATION:Pacific/Midway
BEGIN:STANDARD
TZOFFSETFROM:-1100
TZOFFSETTO:-1100
TZNAME:SST
DTSTART:19700101T000000
END:STANDARD
END:VTIMEZONE
BEGIN:VEVENT
UID:5072275:Event:850985
DTSTAMP:20260419T051756Z
SUMMARY:Creepers Car Club \"Fun Run\" 25 -Marietta, GA
DESCRIPTION:The Creepers Car Club will be hosting their 25th Fun Run J
 une 13 2015 at Jim R.Miller Park from 9am-4pm for more info contact Gr
 eg Grier @770-686-5785\n\n\nFor more information visit https://www.sou
 theastwheelsevents.com/events/creepers-car-club-fun-run-25
DTSTART;TZID=Pacific/Midway:20150613T090000
DTEND;TZID=Pacific/Midway:20150613T160000
CATEGORIES:car, show
LOCATION:Jim R. Miller Park Marietta,Ga.
WEBSITE:http://www.creeperscarclub.org
URL:http://www.creeperscarclub.org
CONTACT:770-686-5785
ORGANIZER;CN="Greg Grier":https://www.southeastwheelsevents.com/profil
 e/GregGrier
ATTACH;FMTTYPE="image/jpeg":http://storage.ning.com/topology/rest/1.0/
 file/get/967675929?profile=original
ATTENDEE;ROLE=REQ-PARTICIPANT;PARTSTAT=ACCEPTED;RSVP=TRUE;CN="Greg Gri
 er":https://www.southeastwheelsevents.com/profile/GregGrier
ATTENDEE;ROLE=REQ-PARTICIPANT;PARTSTAT=ACCEPTED;RSVP=TRUE;CN="robbie p
 adgett":https://www.southeastwheelsevents.com/profile/robbiepadgett
ATTENDEE;ROLE=REQ-PARTICIPANT;PARTSTAT=TENTATIVE;RSVP=TRUE;CN="Michael
  Thies":https://www.southeastwheelsevents.com/profile/MichaelThies
END:VEVENT
END:VCALENDAR
