BEGIN:VCALENDAR
PRODID:NingEventWidget-v1
VERSION:2.0
METHOD:PUBLISH
BEGIN:VTIMEZONE
TZID:Pacific/Midway
X-LIC-LOCATION:Pacific/Midway
BEGIN:STANDARD
TZOFFSETFROM:-1100
TZOFFSETTO:-1100
TZNAME:SST
DTSTART:19700101T000000
END:STANDARD
END:VTIMEZONE
BEGIN:VEVENT
UID:5072275:Event:28685
DTSTAMP:20260419T145516Z
SUMMARY:Crepe Myrtle Cruise-In -Monroe, GA
DESCRIPTION:Top 10 Car/Truck, Top 2 Motorcycle, Best of Show, Best Che
 vy, Ford, Mopar, BOP, Truck, Motorcycle, Foreign Vehicle. Judging by T
 he Georgia Bandits. There will also by The Festival Choice Award to go
  to the best Over-All Car, Truck or Tractor.\n\n$20.00 Registration Fe
 e\nRegistration 8:00 AM-12:00 PM\nAwards 2:00 PM\n\nDoor Prizes\n50/25
 /25\n\nFor more information visit https://www.southeastwheelsevents.co
 m/events/crepe-myrtle-cruisein-monroe
DTSTART;TZID=Pacific/Midway:20100612T080000
DTEND;TZID=Pacific/Midway:20100612T140000
CATEGORIES:crusie-in, crafts, food, music
LOCATION:Hammond Park
WEBSITE:
URL:
CONTACT:
ORGANIZER;CN="Gretchen Brockmann":https://www.southeastwheelsevents.co
 m/profile/GretchenBrockmann
ATTACH;FMTTYPE="image/jpeg":http://storage.ning.com/topology/rest/1.0/
 file/get/967574369?profile=original
ATTENDEE;ROLE=REQ-PARTICIPANT;PARTSTAT=ACCEPTED;RSVP=TRUE;CN="Gretchen
  Brockmann":https://www.southeastwheelsevents.com/profile/GretchenBroc
 kmann
ATTENDEE;ROLE=REQ-PARTICIPANT;PARTSTAT=TENTATIVE;RSVP=TRUE;CN="jeff sh
 aw":https://www.southeastwheelsevents.com/profile/jeffshaw
END:VEVENT
END:VCALENDAR
