BEGIN:VCALENDAR
PRODID:NingEventWidget-v1
VERSION:2.0
METHOD:PUBLISH
BEGIN:VTIMEZONE
TZID:Pacific/Midway
X-LIC-LOCATION:Pacific/Midway
BEGIN:STANDARD
TZOFFSETFROM:-1100
TZOFFSETTO:-1100
TZNAME:SST
DTSTART:19700101T000000
END:STANDARD
END:VTIMEZONE
BEGIN:VEVENT
UID:5072275:Event:1122408
DTSTAMP:20260424T061714Z
SUMMARY:Crooked Roaster Cruise In - Mcclenny, Fl
DESCRIPTION:Crooked Roaster Cruise In, 1478 South 6th street.\n\nFor m
 ore information visit https://www.southeastwheelsevents.com/events/cro
 oked-roaster-cruise-in-mcclenny-fl-6
DTSTART;TZID=Pacific/Midway:20190601T180000
DTEND;TZID=Pacific/Midway:20190601T210000
CATEGORIES:car, show, cruise, in
LOCATION:Crooked Rooster Brewery,
WEBSITE:https://www.google.co.in/maps?q=Crooked+Rooster+Cruise+In,+147
 8+South+6th+street.&amp;amp;amp;amp;amp;amp;amp;amp;amp;amp;amp;um=1&a
 mp;amp;amp;amp;amp;amp;amp;amp;amp;amp;amp;ie=UTF-8&amp;amp;amp;amp;am
 p;amp;amp;amp;amp;amp;amp;sa=X&amp;amp;amp;amp;amp;amp;amp;amp;amp;amp
 ;amp;ved=0ahUKEwiO9-P0pZ_eAhXFRY8KHU8sA9gQ_AUIDigB
URL:https://www.google.co.in/maps?q=Crooked+Rooster+Cruise+In,+1478+So
 uth+6th+street.&amp;amp;amp;amp;amp;amp;amp;amp;amp;amp;amp;um=1&amp;a
 mp;amp;amp;amp;amp;amp;amp;amp;amp;amp;ie=UTF-8&amp;amp;amp;amp;amp;am
 p;amp;amp;amp;amp;amp;sa=X&amp;amp;amp;amp;amp;amp;amp;amp;amp;amp;amp
 ;ved=0ahUKEwiO9-P0pZ_eAhXFRY8KHU8sA9gQ_AUIDigB
CONTACT:904-654-2918
ORGANIZER:
ATTACH;FMTTYPE="image/jpeg":http://storage.ning.com/topology/rest/1.0/
 file/get/967804614?profile=original
ATTENDEE;ROLE=REQ-PARTICIPANT;PARTSTAT=ACCEPTED;RSVP=TRUE;CN="Anthony 
 Hopkins":https://www.southeastwheelsevents.com/profile/AnthonyHopkins
END:VEVENT
END:VCALENDAR
