BEGIN:VCALENDAR
PRODID:NingEventWidget-v1
VERSION:2.0
METHOD:PUBLISH
BEGIN:VTIMEZONE
TZID:Pacific/Midway
X-LIC-LOCATION:Pacific/Midway
BEGIN:STANDARD
TZOFFSETFROM:-1100
TZOFFSETTO:-1100
TZNAME:SST
DTSTART:19700101T000000
END:STANDARD
END:VTIMEZONE
BEGIN:VEVENT
UID:5072275:Event:1114222
DTSTAMP:20260420T112140Z
SUMMARY:Cruis In IV - Fayetteville, Tn
DESCRIPTION:Cruise In IV Downtown Fayetteville, 110 Elk Avenue South.\
 n\nFor more information visit https://www.southeastwheelsevents.com/ev
 ents/cruis-in-iv-fayetteville-tn-11
DTSTART;TZID=Pacific/Midway:20190302T100000
DTEND;TZID=Pacific/Midway:20190302T160000
CATEGORIES:car, show, cruise, in
LOCATION:Downtown Fayetteville,
WEBSITE:https://www.google.co.in/maps/place/110+Elk+Ave+S,+Fayettevill
 e,+TN+37334,+USA/@35.1514665,-86.571243,17z/data=!3m1!4b1!4m5!3m4!1s0x
 88623544ea970e8f:0x8a8144f9a14b9d43!8m2!3d35.1514621!4d-86.5690543
URL:https://www.google.co.in/maps/place/110+Elk+Ave+S,+Fayetteville,+T
 N+37334,+USA/@35.1514665,-86.571243,17z/data=!3m1!4b1!4m5!3m4!1s0x8862
 3544ea970e8f:0x8a8144f9a14b9d43!8m2!3d35.1514621!4d-86.5690543
CONTACT:(931) 433-6154
ORGANIZER:
ATTACH;FMTTYPE="image/jpeg":http://storage.ning.com/topology/rest/1.0/
 file/get/967797982?profile=original
ATTENDEE;ROLE=REQ-PARTICIPANT;PARTSTAT=ACCEPTED;RSVP=TRUE;CN="Anthony 
 Hopkins":https://www.southeastwheelsevents.com/profile/AnthonyHopkins
END:VEVENT
END:VCALENDAR
