BEGIN:VCALENDAR
PRODID:NingEventWidget-v1
VERSION:2.0
METHOD:PUBLISH
BEGIN:VTIMEZONE
TZID:Pacific/Midway
X-LIC-LOCATION:Pacific/Midway
BEGIN:STANDARD
TZOFFSETFROM:-1100
TZOFFSETTO:-1100
TZNAME:SST
DTSTART:19700101T000000
END:STANDARD
END:VTIMEZONE
BEGIN:VEVENT
UID:5072275:Event:936752
DTSTAMP:20260420T083559Z
SUMMARY:Cruise 4 Veterans -Jonesboro, GA
DESCRIPTION:\n\n Cruise 4 Veterans @The VFW Post 6330 732 Veteran’s
  Parkway\n \n\n\n\n\nOctober 3, 2015 Jonesboro, Georgia Cruise 4 Vete
 rans @The VFW Post 6330 732 Veteran’s Parkway (Located less than 1/
 4th of a mile north of Golden Corral) off US 19 & 41 in Commerce Park 
 Complex. Show Registration 9 am-12pm, Awards 3pm, Top 20 Best in Class
 , People’s Choice, Best in Show, $25 Entry Fee, Proceeds going to he
 lp Veteran’s. Info: Joann 770-471-3285 or Wayne Appell 386-589-4008.
 \n\n\n\n\nFor more information visit https://www.southeastwheelsevents
 .com/events/cruise-4-veterans-jonesboro-ga
DTSTART;TZID=Pacific/Midway:20151003T090000
DTEND;TZID=Pacific/Midway:20151003T160000
CATEGORIES:car-show, fundraiser
LOCATION:The VFW Post 6330
WEBSITE:
URL:
CONTACT:Joann 770-471-3285 or Wayne Appell 386-589-4008
ORGANIZER:Cruise 4 Veterans
ATTACH;FMTTYPE="image/jpeg":http://storage.ning.com/topology/rest/1.0/
 file/get/967694662?profile=original
ATTENDEE;ROLE=REQ-PARTICIPANT;PARTSTAT=ACCEPTED;RSVP=TRUE;CN="Chuck Aa
 ron":https://www.southeastwheelsevents.com/profile/ChuckAaron
END:VEVENT
END:VCALENDAR
