BEGIN:VCALENDAR
PRODID:NingEventWidget-v1
VERSION:2.0
METHOD:PUBLISH
BEGIN:VTIMEZONE
TZID:Pacific/Midway
X-LIC-LOCATION:Pacific/Midway
BEGIN:STANDARD
TZOFFSETFROM:-1100
TZOFFSETTO:-1100
TZNAME:SST
DTSTART:19700101T000000
END:STANDARD
END:VTIMEZONE
BEGIN:VEVENT
UID:5072275:Event:780669
DTSTAMP:20260423T040911Z
SUMMARY:Varsity Jr Cruise In -Dawsonville, GA
DESCRIPTION:Cruise in Varsity Jr.t Dawsonville GA,5:00 pm till ! Terry
  tallant 770-561-4896\nEvery Tuesday!\n\nFor more information visit ht
 tps://www.southeastwheelsevents.com/events/cruise-in-25
DTSTART;TZID=Pacific/Midway:20160906T170000
DTEND;TZID=Pacific/Midway:20160906T210000
CATEGORIES:cruise, in
LOCATION:Varsity Jr.
WEBSITE:
URL:
CONTACT:770-561-4896
ORGANIZER;CN="Terry Tallant":https://www.southeastwheelsevents.com/pro
 file/TerryTallant
ATTACH;FMTTYPE="image/jpeg":http://storage.ning.com/topology/rest/1.0/
 file/get/967664491?profile=original
ATTENDEE;ROLE=REQ-PARTICIPANT;PARTSTAT=ACCEPTED;RSVP=TRUE;CN="Terry Ta
 llant":https://www.southeastwheelsevents.com/profile/TerryTallant
END:VEVENT
END:VCALENDAR
