BEGIN:VCALENDAR
PRODID:NingEventWidget-v1
VERSION:2.0
METHOD:PUBLISH
BEGIN:VTIMEZONE
TZID:Pacific/Midway
X-LIC-LOCATION:Pacific/Midway
BEGIN:STANDARD
TZOFFSETFROM:-1100
TZOFFSETTO:-1100
TZNAME:SST
DTSTART:19700101T000000
END:STANDARD
END:VTIMEZONE
BEGIN:VEVENT
UID:5072275:Event:1236778
DTSTAMP:20260419T051452Z
SUMMARY:Cruise In -Albany, Ga
DESCRIPTION:Home Depot Cruise In\n\nFor more information visit https:/
 /www.southeastwheelsevents.com/events/cruise-in-albany-ga-4
DTSTART;TZID=Pacific/Midway:20220924T170000
DTEND;TZID=Pacific/Midway:20220924T210000
CATEGORIES:cruise-in
LOCATION:Home Depot
WEBSITE:
URL:
CONTACT:Debbie 229-669-8970
ORGANIZER:
ATTACH;FMTTYPE="image/jpeg":http://storage.ning.com/topology/rest/1.0/
 file/get/967567949?profile=original
ATTENDEE;ROLE=REQ-PARTICIPANT;PARTSTAT=ACCEPTED;RSVP=TRUE;CN="Chuck Aa
 ron":https://www.southeastwheelsevents.com/profile/ChuckAaron886
END:VEVENT
END:VCALENDAR
