BEGIN:VCALENDAR
PRODID:NingEventWidget-v1
VERSION:2.0
METHOD:PUBLISH
BEGIN:VTIMEZONE
TZID:Pacific/Midway
X-LIC-LOCATION:Pacific/Midway
BEGIN:STANDARD
TZOFFSETFROM:-1100
TZOFFSETTO:-1100
TZNAME:SST
DTSTART:19700101T000000
END:STANDARD
END:VTIMEZONE
BEGIN:VEVENT
UID:5072275:Event:1105519
DTSTAMP:20260424T045443Z
SUMMARY:Cruise In - Alexander City, Al
DESCRIPTION:Arby's, 2593 Hwy 280\n\nFor more information visit https:/
 /www.southeastwheelsevents.com/events/cruise-in-alexander-city-al-1
DTSTART;TZID=Pacific/Midway:20181201T180000
DTEND;TZID=Pacific/Midway:20181201T210000
CATEGORIES:car, show
LOCATION:Arby's,
WEBSITE:https://www.google.co.in/maps/place/Arby&amp;amp;amp;amp;amp;#
 039;s/@33.5195603,-81.7202099,17z/data=!3m1!4b1!4m5!3m4!1s0x88f9b2cb4a
 f10c57:0xf0e17ad564e897a9!8m2!3d33.5195603!4d-81.7180212
URL:https://www.google.co.in/maps/place/Arby&amp;amp;amp;amp;amp;#039;
 s/@33.5195603,-81.7202099,17z/data=!3m1!4b1!4m5!3m4!1s0x88f9b2cb4af10c
 57:0xf0e17ad564e897a9!8m2!3d33.5195603!4d-81.7180212
CONTACT:(256) 794-3846
ORGANIZER:Rod Siggers
ATTACH;FMTTYPE="image/jpeg":http://storage.ning.com/topology/rest/1.0/
 file/get/967784421?profile=original
ATTENDEE;ROLE=REQ-PARTICIPANT;PARTSTAT=ACCEPTED;RSVP=TRUE;CN="Anthony 
 Hopkins":https://www.southeastwheelsevents.com/profile/AnthonyHopkins
END:VEVENT
END:VCALENDAR
