BEGIN:VCALENDAR
PRODID:NingEventWidget-v1
VERSION:2.0
METHOD:PUBLISH
BEGIN:VTIMEZONE
TZID:Pacific/Midway
X-LIC-LOCATION:Pacific/Midway
BEGIN:STANDARD
TZOFFSETFROM:-1100
TZOFFSETTO:-1100
TZNAME:SST
DTSTART:19700101T000000
END:STANDARD
END:VTIMEZONE
BEGIN:VEVENT
UID:5072275:Event:1105268
DTSTAMP:20260423T082120Z
SUMMARY:Cruise In - Ashland City, Tn
DESCRIPTION:Cruise Nights - Ashland City, Tn, 175 Old Cumberland Stree
 t\n\nFor more information visit https://www.southeastwheelsevents.com/
 events/cruise-in-ashland-city-tn-1
DTSTART;TZID=Pacific/Midway:20181207T180000
DTEND;TZID=Pacific/Midway:20181207T210000
CATEGORIES:car, show
LOCATION:175 Old Cumberland Street,
WEBSITE:https://www.google.co.in/maps?q=175+Old+Cumberland+Street&amp;
 amp;amp;amp;amp;amp;um=1&amp;amp;amp;amp;amp;amp;ie=UTF-8&amp;amp;amp;
 amp;amp;amp;sa=X&amp;amp;amp;amp;amp;amp;ved=0ahUKEwjRx8WglIvcAhXMQI8K
 HcONA88Q_AUICigB
URL:https://www.google.co.in/maps?q=175+Old+Cumberland+Street&amp;amp;
 amp;amp;amp;amp;um=1&amp;amp;amp;amp;amp;amp;ie=UTF-8&amp;amp;amp;amp;
 amp;amp;sa=X&amp;amp;amp;amp;amp;amp;ved=0ahUKEwjRx8WglIvcAhXMQI8KHcON
 A88Q_AUICigB
CONTACT:(615) 957-8834
ORGANIZER:Sandra Red Gregory
ATTACH;FMTTYPE="image/jpeg":http://storage.ning.com/topology/rest/1.0/
 file/get/967783018?profile=original
ATTENDEE;ROLE=REQ-PARTICIPANT;PARTSTAT=ACCEPTED;RSVP=TRUE;CN="Anthony 
 Hopkins":https://www.southeastwheelsevents.com/profile/AnthonyHopkins
END:VEVENT
END:VCALENDAR
