BEGIN:VCALENDAR
PRODID:NingEventWidget-v1
VERSION:2.0
METHOD:PUBLISH
BEGIN:VTIMEZONE
TZID:Pacific/Midway
X-LIC-LOCATION:Pacific/Midway
BEGIN:STANDARD
TZOFFSETFROM:-1100
TZOFFSETTO:-1100
TZNAME:SST
DTSTART:19700101T000000
END:STANDARD
END:VTIMEZONE
BEGIN:VEVENT
UID:5072275:Event:885349
DTSTAMP:20260422T141807Z
SUMMARY:Cruise in at Burger King, Athens GA
DESCRIPTION:All vehicles welcome, if you have wheels and an engine you
  are invited.  Registration $10.  There will be door prizes, 50/50, 
 and awards.\n\nFor more information visit https://www.southeastwheelse
 vents.com/events/cruise-in-at-burger-king-athens-ga-17
DTSTART;TZID=Pacific/Midway:20150718T160000
DTEND;TZID=Pacific/Midway:20150718T200000
CATEGORIES:cruise, in
LOCATION:Burger King
WEBSITE:
URL:
CONTACT:706 255 2196
ORGANIZER:Madison County Cruisers
ATTACH;FMTTYPE="image/jpeg":http://storage.ning.com/topology/rest/1.0/
 file/get/967685444?profile=original
ATTENDEE;ROLE=REQ-PARTICIPANT;PARTSTAT=ACCEPTED;RSVP=TRUE;CN="J.J. McC
 arty":https://www.southeastwheelsevents.com/profile/jjmccarty
END:VEVENT
END:VCALENDAR
