BEGIN:VCALENDAR
PRODID:NingEventWidget-v1
VERSION:2.0
METHOD:PUBLISH
BEGIN:VTIMEZONE
TZID:Pacific/Midway
X-LIC-LOCATION:Pacific/Midway
BEGIN:STANDARD
TZOFFSETFROM:-1100
TZOFFSETTO:-1100
TZNAME:SST
DTSTART:19700101T000000
END:STANDARD
END:VTIMEZONE
BEGIN:VEVENT
UID:5072275:Event:927429
DTSTAMP:20260424T162938Z
SUMMARY:Cruise-In at Colosus Pizza, Tucker, GA
DESCRIPTION:New Date from our Rained Out August 30 show.\nWhat better 
 way to spend a Sunday afternoon . . . GREAT Food and COOL Cars! The ow
 ners of this new restaurant love cars, and you will love their menu of
  Pizza, Greek and American fare!\nThis show is open to ALL Makes-Model
 s-Years! Popular Choice Awards - Door Prizes - 50/50 Raffle - \"Cool\"
  Music and MORE!\nEntry fee is a donation to Susan G. Komen for the Cu
 re\n\nFor more information visit https://www.southeastwheelsevents.com
 /events/cruise-in-at-colosus-pizza-tucker-ga
DTSTART;TZID=Pacific/Midway:20150927T130000
DTEND;TZID=Pacific/Midway:20150927T160000
CATEGORIES:cruise-in, car, show, charity, fundraiser
LOCATION:Colossus Pizza
WEBSITE:http://www.GeorgiaCoolCruisers.org
URL:http://www.GeorgiaCoolCruisers.org
CONTACT:404-732-6842
ORGANIZER;CN="Rick Ellis":https://www.southeastwheelsevents.com/profil
 e/RickEllis
ATTACH;FMTTYPE="image/jpeg":http://storage.ning.com/topology/rest/1.0/
 file/get/967696163?profile=original
ATTENDEE;ROLE=REQ-PARTICIPANT;PARTSTAT=ACCEPTED;RSVP=TRUE;CN="Jeffrey 
 Jackson":https://www.southeastwheelsevents.com/profile/JeffreyJackson
ATTENDEE;ROLE=REQ-PARTICIPANT;PARTSTAT=ACCEPTED;RSVP=TRUE;CN="Michael 
 Thies":https://www.southeastwheelsevents.com/profile/MichaelThies
ATTENDEE;ROLE=REQ-PARTICIPANT;PARTSTAT=ACCEPTED;RSVP=TRUE;CN="Rick Ell
 is":https://www.southeastwheelsevents.com/profile/RickEllis
ATTENDEE;ROLE=REQ-PARTICIPANT;PARTSTAT=TENTATIVE;RSVP=TRUE;CN="Lynn Jo
 seph":https://www.southeastwheelsevents.com/profile/LynnJoseph
END:VEVENT
END:VCALENDAR
