BEGIN:VCALENDAR
PRODID:NingEventWidget-v1
VERSION:2.0
METHOD:PUBLISH
BEGIN:VTIMEZONE
TZID:Pacific/Midway
X-LIC-LOCATION:Pacific/Midway
BEGIN:STANDARD
TZOFFSETFROM:-1100
TZOFFSETTO:-1100
TZNAME:SST
DTSTART:19700101T000000
END:STANDARD
END:VTIMEZONE
BEGIN:VEVENT
UID:5072275:Event:1081136
DTSTAMP:20260423T113911Z
SUMMARY:Cruise In at Dairy Queen -Baldwin, GA
DESCRIPTION:Cruise In at Dairy Queen 154 US 441 -Baldwin, GA\r\nEvery 
 Third SaturdayOf The Month\n\nFor more information visit https://www.s
 outheastwheelsevents.com/events/cruise-in-at-dairy-queen-baldwin-ga-5
DTSTART;TZID=Pacific/Midway:20180818T180000
DTEND;TZID=Pacific/Midway:20180818T210000
CATEGORIES:cruise, in, car, show
LOCATION:Dairy Queen
WEBSITE:
URL:
CONTACT:Jerry Shook 706-968-5192, Clarence Lewallen 706-499-7362
ORGANIZER:
ATTACH;FMTTYPE="image/jpeg":http://storage.ning.com/topology/rest/1.0/
 file/get/967761597?profile=original
ATTENDEE;ROLE=REQ-PARTICIPANT;PARTSTAT=ACCEPTED;RSVP=TRUE;CN="Chuck Aa
 ron":https://www.southeastwheelsevents.com/profile/ChuckAaron886
END:VEVENT
END:VCALENDAR
