BEGIN:VCALENDAR
PRODID:NingEventWidget-v1
VERSION:2.0
METHOD:PUBLISH
BEGIN:VTIMEZONE
TZID:Pacific/Midway
X-LIC-LOCATION:Pacific/Midway
BEGIN:STANDARD
TZOFFSETFROM:-1100
TZOFFSETTO:-1100
TZNAME:SST
DTSTART:19700101T000000
END:STANDARD
END:VTIMEZONE
BEGIN:VEVENT
UID:5072275:Event:12169
DTSTAMP:20260422T003910Z
SUMMARY:Cruise In at Dairy Queen -Clarksville, TN
DESCRIPTION:Cruise In at Dairy Queen -Clarksville, TN\nMeets every Sat
 urday - Call to confirm with Jim Parham 931-216-6396\n\nFor more infor
 mation visit https://www.southeastwheelsevents.com/events/cruise-in-at
 -dairy-queen
DTSTART;TZID=Pacific/Midway:20100508T180000
DTEND;TZID=Pacific/Midway:20100508T210000
CATEGORIES:cruise, in
LOCATION:Dairy Queen
WEBSITE:
URL:
CONTACT:Jim Parham 931-216-6396
ORGANIZER:
ATTACH;FMTTYPE="image/jpeg":http://storage.ning.com/topology/rest/1.0/
 file/get/967571854?profile=original
ATTENDEE;ROLE=REQ-PARTICIPANT;PARTSTAT=ACCEPTED;RSVP=TRUE;CN="Michael 
 Thies":https://www.southeastwheelsevents.com/profile/MichaelThies
END:VEVENT
END:VCALENDAR
