BEGIN:VCALENDAR
PRODID:NingEventWidget-v1
VERSION:2.0
METHOD:PUBLISH
BEGIN:VTIMEZONE
TZID:Pacific/Midway
X-LIC-LOCATION:Pacific/Midway
BEGIN:STANDARD
TZOFFSETFROM:-1100
TZOFFSETTO:-1100
TZNAME:SST
DTSTART:19700101T000000
END:STANDARD
END:VTIMEZONE
BEGIN:VEVENT
UID:5072275:Event:544226
DTSTAMP:20260424T112019Z
SUMMARY:Mountain Harvest Festival Car Show, Cruise In & Cruising the B
 lue Ridge Parkway -Hendersonville, NC
DESCRIPTION:Mountain Harvest Festival Car Show, Cruise In & Cruising t
 he Blue Ridge Parkway -Hendersonville, NC\nCall for details to Bruce H
 atfield at 828-329-4971\n\nFor more information visit https://www.sout
 heastwheelsevents.com/events/cruise-in-at-firehouse-subs-hendersonvill
 e-nc
DTSTART;TZID=Pacific/Midway:20121012T000000
DTEND;TZID=Pacific/Midway:20121014T235900
CATEGORIES:car-show, cruise-in, "cruise the parkway"
LOCATION:Blue Ridge Parkway
WEBSITE:
URL:
CONTACT:Bruce 828-329-4971
ORGANIZER:Bruce Hatfield
ATTACH;FMTTYPE="image/jpeg":http://storage.ning.com/topology/rest/1.0/
 file/get/967570630?profile=original
ATTENDEE;ROLE=REQ-PARTICIPANT;PARTSTAT=ACCEPTED;RSVP=TRUE;CN="Michael 
 Thies":https://www.southeastwheelsevents.com/profile/MichaelThies
END:VEVENT
END:VCALENDAR
