BEGIN:VCALENDAR
PRODID:NingEventWidget-v1
VERSION:2.0
METHOD:PUBLISH
BEGIN:VTIMEZONE
TZID:Pacific/Midway
X-LIC-LOCATION:Pacific/Midway
BEGIN:STANDARD
TZOFFSETFROM:-1100
TZOFFSETTO:-1100
TZNAME:SST
DTSTART:19700101T000000
END:STANDARD
END:VTIMEZONE
BEGIN:VEVENT
UID:5072275:Event:1025970
DTSTAMP:20260424T065247Z
SUMMARY:Cruise In at HBO Storage
DESCRIPTION:Monthly Cruise In at HBO Storage, Panama City between 6pm 
 - 8pm.\n\nFor more information visit https://www.southeastwheelsevents
 .com/events/cruise-in-at-hbo-storage
DTSTART;TZID=Pacific/Midway:20161217T180000
DTEND;TZID=Pacific/Midway:20161217T200000
CATEGORIES:cars, "clubs/shows/cruises"
LOCATION:HBO Storage
WEBSITE:http://www.emeraldcoastcorvetteclub.com/calendar.aspx
URL:http://www.emeraldcoastcorvetteclub.com/calendar.aspx
CONTACT:
ORGANIZER:
ATTACH;FMTTYPE="image/jpeg":http://storage.ning.com/topology/rest/1.0/
 file/get/967721707?profile=original
ATTENDEE;ROLE=REQ-PARTICIPANT;PARTSTAT=ACCEPTED;RSVP=TRUE;CN="Chris go
 sney":https://www.southeastwheelsevents.com/profile/Chrisgosney
END:VEVENT
END:VCALENDAR
