BEGIN:VCALENDAR
PRODID:NingEventWidget-v1
VERSION:2.0
METHOD:PUBLISH
BEGIN:VTIMEZONE
TZID:Pacific/Midway
X-LIC-LOCATION:Pacific/Midway
BEGIN:STANDARD
TZOFFSETFROM:-1100
TZOFFSETTO:-1100
TZNAME:SST
DTSTART:19700101T000000
END:STANDARD
END:VTIMEZONE
BEGIN:VEVENT
UID:5072275:Event:14150
DTSTAMP:20260423T121321Z
SUMMARY:Cruise In at Huddle House -Live Oak, FL
DESCRIPTION:Cruise In at Huddle House -Live Oak, FL\nMeets every 2nd T
 hursday of the Month\nConfirm with George Richards 386-752-6311\n\nFor
  more information visit https://www.southeastwheelsevents.com/events/c
 ruise-in-at-huddle-house-live
DTSTART;TZID=Pacific/Midway:20100513T180000
DTEND;TZID=Pacific/Midway:20100513T210000
CATEGORIES:cruise-in
LOCATION:Huddle House
WEBSITE:
URL:
CONTACT:George Richards 386-752-6311
ORGANIZER:
ATTACH;FMTTYPE="image/jpeg":http://storage.ning.com/topology/rest/1.0/
 file/get/967570557?profile=original
END:VEVENT
END:VCALENDAR
