BEGIN:VCALENDAR
PRODID:NingEventWidget-v1
VERSION:2.0
METHOD:PUBLISH
BEGIN:VTIMEZONE
TZID:Pacific/Midway
X-LIC-LOCATION:Pacific/Midway
BEGIN:STANDARD
TZOFFSETFROM:-1100
TZOFFSETTO:-1100
TZNAME:SST
DTSTART:19700101T000000
END:STANDARD
END:VTIMEZONE
BEGIN:VEVENT
UID:5072275:Event:1175880
DTSTAMP:20260424T152050Z
SUMMARY:CRUISE IN AT KNUCKLEHEADS
DESCRIPTION:2\n\nFor more information visit https://www.southeastwheel
 sevents.com/events/cruise-in-at-knuckleheads-1
DTSTART;TZID=Pacific/Midway:20191012T170000
DTEND;TZID=Pacific/Midway:20191012T220000
CATEGORIES:monthly, cruise, in
LOCATION:KnuckleHeads Cafe
WEBSITE:
URL:
CONTACT:
ORGANIZER:
ATTACH;FMTTYPE="image/jpeg":https://storage.ning.com/topology/rest/1.0
 /file/get/3437739193?profile=original
ATTENDEE;ROLE=REQ-PARTICIPANT;PARTSTAT=ACCEPTED;RSVP=TRUE;CN="Jeffrey 
 Rutherford":https://www.southeastwheelsevents.com/profile/JeffreyRuthe
 rford866
END:VEVENT
END:VCALENDAR
