BEGIN:VCALENDAR
PRODID:NingEventWidget-v1
VERSION:2.0
METHOD:PUBLISH
BEGIN:VTIMEZONE
TZID:Pacific/Midway
X-LIC-LOCATION:Pacific/Midway
BEGIN:STANDARD
TZOFFSETFROM:-1100
TZOFFSETTO:-1100
TZNAME:SST
DTSTART:19700101T000000
END:STANDARD
END:VTIMEZONE
BEGIN:VEVENT
UID:5072275:Event:1024712
DTSTAMP:20260424T065238Z
SUMMARY:Cruise-In at Lunch Box
DESCRIPTION:Cruise-In at Lunch Box. Live entertainment, door prizes, f
 amily fun. Cruise-In start time and end time may change.\n\nFor more i
 nformation visit https://www.southeastwheelsevents.com/events/cruise-i
 n-at-lunch-box
DTSTART;TZID=Pacific/Midway:20161217T170000
DTEND;TZID=Pacific/Midway:20161217T210000
CATEGORIES:cars, "clubs/shows/cruises"
LOCATION:Lunch Box
WEBSITE:http://chevelle-ss.com/wp-content/uploads/February-2016-Cruise
 -List.pdf
URL:http://chevelle-ss.com/wp-content/uploads/February-2016-Cruise-Lis
 t.pdf
CONTACT:
ORGANIZER:
ATTACH;FMTTYPE="image/jpeg":
ATTENDEE;ROLE=REQ-PARTICIPANT;PARTSTAT=ACCEPTED;RSVP=TRUE;CN="Chris go
 sney":https://www.southeastwheelsevents.com/profile/Chrisgosney
END:VEVENT
END:VCALENDAR
