BEGIN:VCALENDAR
PRODID:NingEventWidget-v1
VERSION:2.0
METHOD:PUBLISH
BEGIN:VTIMEZONE
TZID:Pacific/Midway
X-LIC-LOCATION:Pacific/Midway
BEGIN:STANDARD
TZOFFSETFROM:-1100
TZOFFSETTO:-1100
TZNAME:SST
DTSTART:19700101T000000
END:STANDARD
END:VTIMEZONE
BEGIN:VEVENT
UID:5072275:Event:1080909
DTSTAMP:20260423T045137Z
SUMMARY:Father's Day Cruise In -Anderson, SC
DESCRIPTION:Father's Day Cruise In -Anderson, SC\n\nFor more informati
 on visit https://www.southeastwheelsevents.com/events/cruise-in-at-mcd
 onalds-anderson-sc-2
DTSTART;TZID=Pacific/Midway:20210619T100000
DTEND;TZID=Pacific/Midway:20210619T150000
CATEGORIES:reoccuring, cruise, in
LOCATION:Downtown
WEBSITE:
URL:
CONTACT:864-940-3800
ORGANIZER:
ATTACH;FMTTYPE="image/jpeg":http://storage.ning.com/topology/rest/1.0/
 file/get/967762670?profile=original
ATTENDEE;ROLE=REQ-PARTICIPANT;PARTSTAT=ACCEPTED;RSVP=TRUE;CN="Chuck Aa
 ron":https://www.southeastwheelsevents.com/profile/ChuckAaron886
END:VEVENT
END:VCALENDAR
