BEGIN:VCALENDAR
PRODID:NingEventWidget-v1
VERSION:2.0
METHOD:PUBLISH
BEGIN:VTIMEZONE
TZID:Pacific/Midway
X-LIC-LOCATION:Pacific/Midway
BEGIN:STANDARD
TZOFFSETFROM:-1100
TZOFFSETTO:-1100
TZNAME:SST
DTSTART:19700101T000000
END:STANDARD
END:VTIMEZONE
BEGIN:VEVENT
UID:5072275:Event:1081225
DTSTAMP:20260422T181236Z
SUMMARY:Cruise In at Michael's -Athens, TN
DESCRIPTION:Cruise In at Michael's Restaurant on Highway 11 -Athens, T
 N\r\nEvery Third Saturday of the Month\n\nFor more information visit h
 ttps://www.southeastwheelsevents.com/events/cruise-in-at-michael-s-ath
 ens-tn-6
DTSTART;TZID=Pacific/Midway:20181020T180000
DTEND;TZID=Pacific/Midway:20181020T210000
CATEGORIES:cruise, in, car, show
LOCATION:Michael's Restaurant
WEBSITE:
URL:
CONTACT:Danny Richesin 423-744-4825,Loretta Swafford 432-453-5576
ORGANIZER:
ATTACH;FMTTYPE="image/jpeg":http://storage.ning.com/topology/rest/1.0/
 file/get/967763562?profile=original
ATTENDEE;ROLE=REQ-PARTICIPANT;PARTSTAT=ACCEPTED;RSVP=TRUE;CN="Chuck Aa
 ron":https://www.southeastwheelsevents.com/profile/ChuckAaron886
END:VEVENT
END:VCALENDAR
