BEGIN:VCALENDAR
PRODID:NingEventWidget-v1
VERSION:2.0
METHOD:PUBLISH
BEGIN:VTIMEZONE
TZID:Pacific/Midway
X-LIC-LOCATION:Pacific/Midway
BEGIN:STANDARD
TZOFFSETFROM:-1100
TZOFFSETTO:-1100
TZNAME:SST
DTSTART:19700101T000000
END:STANDARD
END:VTIMEZONE
BEGIN:VEVENT
UID:5072275:Event:14168
DTSTAMP:20260422T215844Z
SUMMARY:Cruise In at Publix -Lake City , FL
DESCRIPTION:Cruise In at Publix -Lake City , FL\nEvery 2nd Friday - Co
 nfirm with David Mrvica 386-719-1182\n\nFor more information visit htt
 ps://www.southeastwheelsevents.com/events/cruise-in-at-publix-lake-cit
 y-1
DTSTART;TZID=Pacific/Midway:20100514T180000
DTEND;TZID=Pacific/Midway:20100514T210000
CATEGORIES:cruise-in
LOCATION:Publix Shopping Center
WEBSITE:
URL:
CONTACT:David Mrvica 386-719-1182
ORGANIZER:
ATTACH;FMTTYPE="image/jpeg":http://storage.ning.com/topology/rest/1.0/
 file/get/967570549?profile=original
ATTENDEE;ROLE=REQ-PARTICIPANT;PARTSTAT=ACCEPTED;RSVP=TRUE;CN="Michael 
 Thies":https://www.southeastwheelsevents.com/profile/MichaelThies
END:VEVENT
END:VCALENDAR
