BEGIN:VCALENDAR
PRODID:NingEventWidget-v1
VERSION:2.0
METHOD:PUBLISH
BEGIN:VTIMEZONE
TZID:Pacific/Midway
X-LIC-LOCATION:Pacific/Midway
BEGIN:STANDARD
TZOFFSETFROM:-1100
TZOFFSETTO:-1100
TZNAME:SST
DTSTART:19700101T000000
END:STANDARD
END:VTIMEZONE
BEGIN:VEVENT
UID:5072275:Event:1036674
DTSTAMP:20260422T151021Z
SUMMARY:Cruise-In at The Varsity Gwinett, Norcross, GA
DESCRIPTION:Come join us and have a Chili Dog and a FUN, FREE Cruise-I
 n! In February, we had a tremendous crowd of 110+ show cars.\nWe will 
 be presenting 5 Special Awards, plus our great music to Be-Bop to!\nAl
 though this is a free event, we will be accepting donations for FurKid
 s, an animal rescue group.\nBring ALL your friends!\n\nFor more inform
 ation visit https://www.southeastwheelsevents.com/events/cruise-in-at-
 the-varsity-gwinett-norcross-ga
DTSTART;TZID=Pacific/Midway:20170319T160000
DTEND;TZID=Pacific/Midway:20170319T190000
CATEGORIES:cruise-in, fundraiser
LOCATION:The Varsity Gwinnett
WEBSITE:http://www.GeorgiaCoolCruisers.org
URL:http://www.GeorgiaCoolCruisers.org
CONTACT:404-732-6842
ORGANIZER;CN="Rick Ellis":https://www.southeastwheelsevents.com/profil
 e/RickEllis
ATTACH;FMTTYPE="image/jpeg":http://storage.ning.com/topology/rest/1.0/
 file/get/2631754957?profile=original
ATTENDEE;ROLE=REQ-PARTICIPANT;PARTSTAT=ACCEPTED;RSVP=TRUE;CN="Bo Freer
 ":https://www.southeastwheelsevents.com/profile/BoFreer
ATTENDEE;ROLE=REQ-PARTICIPANT;PARTSTAT=ACCEPTED;RSVP=TRUE;CN="Robert K
 . Chitty":https://www.southeastwheelsevents.com/profile/RobertKChitty
ATTENDEE;ROLE=REQ-PARTICIPANT;PARTSTAT=ACCEPTED;RSVP=TRUE;CN="Lee Gosn
 ey":https://www.southeastwheelsevents.com/profile/LeeGosney
ATTENDEE;ROLE=REQ-PARTICIPANT;PARTSTAT=ACCEPTED;RSVP=TRUE;CN="arthur m
 ac williams":https://www.southeastwheelsevents.com/profile/arthurmacwi
 lliams
ATTENDEE;ROLE=REQ-PARTICIPANT;PARTSTAT=ACCEPTED;RSVP=TRUE;CN="Mike Suh
 anek":https://www.southeastwheelsevents.com/profile/mikesuhanek
ATTENDEE;ROLE=REQ-PARTICIPANT;PARTSTAT=ACCEPTED;RSVP=TRUE;CN="Pat Durb
 in":https://www.southeastwheelsevents.com/profile/PatDurbin
ATTENDEE;ROLE=REQ-PARTICIPANT;PARTSTAT=ACCEPTED;RSVP=TRUE;CN="Michael 
 Thies":https://www.southeastwheelsevents.com/profile/MichaelThies
ATTENDEE;ROLE=REQ-PARTICIPANT;PARTSTAT=ACCEPTED;RSVP=TRUE;CN="Chuck Aa
 ron":https://www.southeastwheelsevents.com/profile/ChuckAaron886
ATTENDEE;ROLE=REQ-PARTICIPANT;PARTSTAT=ACCEPTED;RSVP=TRUE;CN="John Bai
 ley":https://www.southeastwheelsevents.com/profile/JohnBailey
ATTENDEE;ROLE=REQ-PARTICIPANT;PARTSTAT=ACCEPTED;RSVP=TRUE;CN="Rick Ell
 is":https://www.southeastwheelsevents.com/profile/RickEllis
ATTENDEE;ROLE=REQ-PARTICIPANT;PARTSTAT=TENTATIVE;RSVP=TRUE;CN="Philip 
 C Hutchinson":https://www.southeastwheelsevents.com/profile/PhilipCHut
 chinson
ATTENDEE;ROLE=REQ-PARTICIPANT;PARTSTAT=TENTATIVE;RSVP=TRUE;CN="Bob Smi
 th":https://www.southeastwheelsevents.com/profile/BobSmith
ATTENDEE;ROLE=REQ-PARTICIPANT;PARTSTAT=TENTATIVE;RSVP=TRUE;CN="John Cu
 rtis Smith":https://www.southeastwheelsevents.com/profile/JohnCurtisSm
 ith
END:VEVENT
END:VCALENDAR
