BEGIN:VCALENDAR
PRODID:NingEventWidget-v1
VERSION:2.0
METHOD:PUBLISH
BEGIN:VTIMEZONE
TZID:Pacific/Midway
X-LIC-LOCATION:Pacific/Midway
BEGIN:STANDARD
TZOFFSETFROM:-1100
TZOFFSETTO:-1100
TZNAME:SST
DTSTART:19700101T000000
END:STANDARD
END:VTIMEZONE
BEGIN:VEVENT
UID:5072275:Event:1019846
DTSTAMP:20260420T194638Z
SUMMARY:Cruise-In at The Varsity Gwinnett, Norcross, GA
DESCRIPTION:What'll you have? A Chili Dog and a FREE & FRIENDLY Monthl
 y Cruise-In!\nAdd some Great Music and a perfect setting for a Cruise-
 In for this brand new event!\nNO Entry Fee, but we will have a donatio
 n bucket for one of our charities (optional).\nOpen to ALL Makes-Model
 s-Years!\nThis will be a year-round 3rd Sunday Evening event.\nCo-host
 ed by Georgia Cool Cruisers and Southeast Wheels Events.\n\nFor more i
 nformation visit https://www.southeastwheelsevents.com/events/cruise-i
 n-at-the-varsity-gwinnett-norcross-ga
DTSTART;TZID=Pacific/Midway:20170115T160000
DTEND;TZID=Pacific/Midway:20170115T190000
CATEGORIES:cruise-in
LOCATION:The Varsity Gwinnett
WEBSITE:http://www.GeorgiaCoolCruisers,org
URL:http://www.GeorgiaCoolCruisers,org
CONTACT:404-732-6842
ORGANIZER;CN="Rick Ellis":https://www.southeastwheelsevents.com/profil
 e/RickEllis
ATTACH;FMTTYPE="image/jpeg":http://storage.ning.com/topology/rest/1.0/
 file/get/967717876?profile=original
ATTENDEE;ROLE=REQ-PARTICIPANT;PARTSTAT=ACCEPTED;RSVP=TRUE;CN="Lee Gosn
 ey":https://www.southeastwheelsevents.com/profile/LeeGosney
ATTENDEE;ROLE=REQ-PARTICIPANT;PARTSTAT=ACCEPTED;RSVP=TRUE;CN="Pat Durb
 in":https://www.southeastwheelsevents.com/profile/PatDurbin
ATTENDEE;ROLE=REQ-PARTICIPANT;PARTSTAT=ACCEPTED;RSVP=TRUE;CN="Chuck Aa
 ron":https://www.southeastwheelsevents.com/profile/ChuckAaron886
ATTENDEE;ROLE=REQ-PARTICIPANT;PARTSTAT=ACCEPTED;RSVP=TRUE;CN="John Bai
 ley":https://www.southeastwheelsevents.com/profile/JohnBailey
ATTENDEE;ROLE=REQ-PARTICIPANT;PARTSTAT=ACCEPTED;RSVP=TRUE;CN="Rick Ell
 is":https://www.southeastwheelsevents.com/profile/RickEllis
END:VEVENT
END:VCALENDAR
