BEGIN:VCALENDAR
PRODID:NingEventWidget-v1
VERSION:2.0
METHOD:PUBLISH
BEGIN:VTIMEZONE
TZID:Pacific/Midway
X-LIC-LOCATION:Pacific/Midway
BEGIN:STANDARD
TZOFFSETFROM:-1100
TZOFFSETTO:-1100
TZNAME:SST
DTSTART:19700101T000000
END:STANDARD
END:VTIMEZONE
BEGIN:VEVENT
UID:5072275:Event:1238170
DTSTAMP:20260420T050151Z
SUMMARY:Cruise In at Wise Guys Wings -Griffin, GA
DESCRIPTION:Cruise In at Wise Guys Wings -Griffin, GA\r\nTwisted for a
  Cause\r\nCome and join in the fun!\n\nFor more information visit http
 s://www.southeastwheelsevents.com/events/cruise-in-at-wise-guys-wings-
 griffin-ga
DTSTART;TZID=Pacific/Midway:20220827T170000
DTEND;TZID=Pacific/Midway:20220827T200000
CATEGORIES:crusie, in, car, show, fund, raiser
LOCATION:Wise Guys Wings
WEBSITE:https://m.facebook.com/Twisted-for-a-Cause-Inc-105758278876702
 /#_=_
URL:https://m.facebook.com/Twisted-for-a-Cause-Inc-105758278876702/#_=
 _
CONTACT:Shar 770-656-0570
ORGANIZER:
ATTACH;FMTTYPE="image/jpeg":https://storage.ning.com/topology/rest/1.0
 /file/get/10791893252?profile=original
ATTENDEE;ROLE=REQ-PARTICIPANT;PARTSTAT=ACCEPTED;RSVP=TRUE;CN="Chuck Aa
 ron":https://www.southeastwheelsevents.com/profile/ChuckAaron886
END:VEVENT
END:VCALENDAR
